Workbook
Name 【選択してください】: MST!#REF!
Name ①公募区分: MST!$K$2:$K$5
Name 革新型研究開発: MST!#REF!
Name 環境問題対応型研究: MST!#REF!
Name 次世代事業: MST!#REF!

Sheet MST
A1: 2027 | B1: 重点課題 | G1: 領域 | I1: 研究期間 | K1: 公募区分1 | N1: 経費 | P1: 申請上限 | R1: 行政ニーズ | S1: 主 | T1: 副 | U1: 正副
B2: 【選択してください】 | C2: 0 | D2: 0 | F2: 0 | G2: ※重点課題「主」から自動で選択されます。 | I2: 【選択してください】 | K2: 【選択してください】 | L2: 0 | N2: 11 | O2: 問対一般 | P2: 40000 | U2: 未選択
B3: 【重点課題①】持続可能な社会の実現に向けたビジョン・理念の提示及びその実現 | C3: 1 | D3: ① | F3: 1 | G3: 統合 | I3: 46843 | K3: 環境問題対応型研究（一般課題） | L3: 11 | N3: 12 | O3: 問対G | P3: 40000 | R3: （1-1）持続可能な社会に向けた行動変容に関するメカニズム解析 | S3: ① | T3: - | U3: =S3&T3 -> ①-
B4: 【重点課題②】環境・経済・社会の統合的向上 | C4: 1 | D4: ② | F4: 2 | G4: 気候変動 | I4: 47208 | K4: 環境問題対応型研究（技術実証型） | L4: 12 | N4: 13 | O4: 問対MF | P4: 20000 | R4: （1-2）里海づくりに資する沿岸域の環境適性評価手法の開発 | S4: ① | T4: ② | U4: =S4&T4 -> ①②
B5: 【重点課題③】ネット・ゼロ、循環経済、ネイチャーポジティブの統合的な実現 | C5: 1 | D5: ③ | F5: 3 | G5: 資源循環 | I5: 47573 | K5: 環境問題対応型研究（ミディアムファンディング枠） | L5: 13 | N5: 21 | O5: 次世代ア | P5: 200000 | R5: （1-3）良好な環境づくりの取組効果を評価する手法の開発に関する研究 | S5: ① | T5: ② | U5: =S5&T5 -> ①②
B6: 【重点課題④】災害・事故に伴う環境問題への対応 | C6: 1 | D6: ④ | F6: 4 | G6: 自然共生 | K6: 次世代事業（ア．「技術開発実証・実用化事業」） | L6: 21 | N6: 22 | O6: 次世代イ | P6: 400000 | R6: （1-4）閉鎖性海域（有明海・八代海等）における気候変動や社会経済情勢変化による海域環境・生態系への影響評価 | S6: ① | T6: ⑯ | U6: =S6&T6 -> ①⑯
B7: 【重点課題⑤】グローバルな課題の解決及び国際協調・国際競争力の強化 | C7: 1 | D7: ⑤ | F7: 5 | G7: 安全確保 | K7: 次世代事業（イ．「次世代循環型社会形成推進技術基盤整備事業」） | L7: 22 | N7: 31 | O7: 若手A | P7: 6000 | R7: （1-5）地域活性化（利用）施策に関する国立公園制度への新たなアプローチ手法の開発に関する研究 | S7: ② | T7: ① | U7: =S7&T7 -> ②①
B8: 【重点課題⑥】気候変動緩和策 | C8: 2 | D8: ⑥ | K8: 革新型研究開発（若手枠A） | L8: 31 | N8: 32 | O8: 若手B | P8: 3000 | R8: （1-6）環境保全につながる経済活動を行うことと企業価値との相関に関する実証研究 | S8: ② | T8: ③ | U8: =S8&T8 -> ②③
B9: 【重点課題⑦】気候変動適応策 | C9: 2 | D9: ⑦ | K9: 革新型研究開発（若手枠B） | L9: 32 | R9: （1-7）ネイチャーポジティブ経営の実現に資するライフサイクル影響評価手法の構築に関する研究 | S9: ② | T9: ⑫ | U9: =S9&T9 -> ②⑫
B10: 【重点課題⑧】地球温暖化現象の解明・予測・対策評価 | C10: 2 | D10: ⑧ | R10: （1-8）企業と地域のネット・ゼロ、循環経済、ネイチャーポジティブへの移行評価モデルの開発 | S10: ③ | T10: - | U10: =S10&T10 -> ③-
B11: 【重点課題⑨】地域循環共生圏形成に資する廃棄物処理システムの構築 | C11: 3 | D11: ⑨ | R11: （1-9）復興再生土の受容性向上に向けたリスクコミュニケーション及び放射線リテラシー教育に関する具体的手法の設計 | S11: ④ | T11: - | U11: =S11&T11 -> ④-
B12: 【重点課題⑩】ライフサイクル全体での徹底的な資源循環 | C12: 3 | D12: ⑩ | R12: （1-10）帰還困難区域の区域解除を見据えた持続的土地利用の評価 | S12: ④ | T12: - | U12: =S12&T12 -> ④-
B13: 【重点課題⑪】社会構造の変化に対応した持続可能な廃棄物の適正処理の確保 | C13: 3 | D13: ⑪ | R13: （1-11）大規模災害時に発生する大量の災害廃棄物を効率化・省人化して処理する仕組みの構築 | S13: ④ | T13: ⑪ | U13: =S13&T13 -> ④⑪
B14: 【重点課題⑫】生物多様性の保全に資する科学的知見の充実や対策手法の技術開発 | C14: 4 | D14: ⑫ | R14: （1-12）底質MicPの動態モデルの構築 | S14: ⑤ | T14: ⑯ | U14: =S14&T14 -> ⑤⑯
B15: 【重点課題⑬】生態系サービスの持続的な利用やシステム解明 | C15: 4 | D15: ⑬ | R15: （2-1）気候変動緩和策における1.5℃目標達成のためのCDRの導入分析モデルの開発 | S15: ⑥ | T15: - | U15: =S15&T15 -> ⑥-
B16: 【重点課題⑭】化学物質等の包括的なリスク評価・管理の推進 | C16: 5 | D16: ⑭ | R16: （2-2）地域電源としての営農型太陽光発電の普及に向けた発電と農業の関連性に関する研究 | S16: ⑥ | T16: ⑦ | U16: =S16&T16 -> ⑥⑦
B17: 【重点課題⑮】大気等の環境管理・改善のための対策技術の高度化及び評価・解明 | C17: 5 | D17: ⑮ | R17: （2-3）地域特性を踏まえた熱中症死亡削減目標の地域別達成可能性及び必要対策量の評価 | S17: ⑦ | T17: - | U17: =S17&T17 -> ⑦-
B18: 【重点課題⑯】水・土壌等の環境管理・改善のための対策技術の高度化及び評価・解明 | C18: 5 | D18: ⑯ | R18: （2-4）地域間、適応策間での比較可能性を考慮した気候変動影響及び適応策に関する研究 | S18: ⑦ | T18: ⑧ | U18: =S18&T18 -> ⑦⑧
B19: なし | R19: （2-5）水循環に係る気候変動適応効果及び生物多様性保全等のシナジー効果の定量評価手法の開発 | S19: ⑦ | T19: ⑫ | U19: =S19&T19 -> ⑦⑫
R20: （2-6）超小型衛星による温室効果ガス排出源観測・解析技術の開発 | S20: ⑧ | T20: ⑥ | U20: =S20&T20 -> ⑧⑥
R21: （2-7）超高分解能モデルを用いた短寿命気候強制因子に係る気候変動・大気汚染の評価 | S21: ⑧ | T21: ⑮ | U21: =S21&T21 -> ⑧⑮
R22: （3-1）資源循環施策によるGHG削減効果の定量評価研究 | S22: ⑨ | T22: ⑥ | U22: =S22&T22 -> ⑨⑥
R23: （3-2）廃棄物由来 CO2 の活用技術の研究開発 | S23: ⑨ | T23: ⑥ | U23: =S23&T23 -> ⑨⑥
R24: （3-3）再生プラスチック・バイオプラスチックの活用促進に向けた環境特性の表示やコミュニケーション及び認証制度に関する研究 | S24: ⑩ | T24: - | U24: =S24&T24 -> ⑩-
R25: （3-4）紙おむつの再生利用に資する研究 | S25: ⑩ | T25: ⑪ | U25: =S25&T25 -> ⑩⑪
R26: （3-5）循環経済への移行に伴う効果の定量的把握に関する研究 | S26: ⑩ | T26: ⑪ | U26: =S26&T26 -> ⑩⑪
R27: （3-6）POPs含有廃棄物の適正処理に資する分解処理方法等の検討 | S27: ⑪ | T27: ⑭ | U27: =S27&T27 -> ⑪⑭
R28: （4-1）島嶼における希少種保全のための貝食性外来プラナリア類等の防除手法の社会実装に向けた技術開発 | S28: ⑫ | T28: - | U28: =S28&T28 -> ⑫-
R29: （4-2）適切な管理に向けた科学的かつ効果的な第二種特定鳥獣のモニタリング及び捕獲手法の開発について | S29: ⑫ | T29: - | U29: =S29&T29 -> ⑫-
R30: （4-3）国際協力による保全が必要な渡り鳥の飛翔経路や利用環境等の生態解明に関する研究 | S30: ⑫ | T30: - | U30: =S30&T30 -> ⑫-
R31: （4-4）サンゴの白化防止技術及び幼生供給技術の確立と社会実装手法検討研究 | S31: ⑫ | T31: ② | U31: =S31&T31 -> ⑫②
... R62: （5-19）水源から蛇口の水まで、農薬類の一体的なリスク管理 | S62: ⑯ | T62: ⑭ | U62: =S62&T62 -> ⑯⑭

Sheet 【共通】課題情報
A1: 【共通】課題情報（令和9年度新規課題公募） | H1: e-Radの課題番号 | T1: ◆「27」から始まるe-Radの課題番号（8桁）を入力してください。
B2: 黄色いセルは必須入力/選択項目です。
B4: 研究課題名 | C4: 必須
B5: 重点課題 （主） | C5: 必須 | D5: 【選択してください】 | P5: =VLOOKUP(D5,MST!B:C,2,0) -> 0 | Q5: =VLOOKUP(D5,MST!B:D,3,0) -> 0 | R5: =IF(Q5=P8,1,0)+IF(Q5=Q8,1,0) -> 2 | S5: =IF(Q5=P9,1,0)+IF(Q5=Q9,1,0) -> 2 | T5: ◆公募要領p.4 表2及び公募要領別添資料1 p.2～17を参照の上、【重点課題①】～【重点課題⑯】のうち、該当するものを選択してください。 ◆副の重点課題を選択しない場合は、「副：なし」としてください。
B6: 重点課題 （副） | C6: 任意 | D6: 【選択してください】 | P6: =VLOOKUP(D6,MST!B:C,2,0) -> 0 | Q6: =VLOOKUP(D6,MST!B:D,3,0) -> 0 | R6: =IF(Q6=P8,1,0)+IF(Q6=Q8,1,0) -> 2 | S6: =IF(Q6=P9,1,0)+IF(Q6=Q9,1,0) -> 2
B7: 研究領域 | D7: =VLOOKUP(P5,MST!F:G,2,0) -> ※重点課題「主」から自動で選択されます。 | T7: ※重点課題「主」から自動で選択されます。
B8: 行政要請研究テーマ （行政ニーズ） ※2つまで選択可能です | C8: 任意 | O8: =IFERROR(IF(D8=" ","",IF(R5+R6=0,"不一致","")),"") | P8: =VLOOKUP(D8,MST!R:U,2,0) -> 0 | Q8: =VLOOKUP(D8,MST!R:U,3,0) -> 0 | T8: 公募要領別添資料1 p.●～●を参照の上、本申請において選択した重点課題（主、副）に対応した行政要請研究テーマ（行政ニーズ）に該当する場合は、それを選択してください。 該当のない場合は、選択の必要はありません。
C9: 任意 | O9: =IFERROR(IF(D9=" ","",IF(S5+S6=0,"不一致","")),"") | P9: =VLOOKUP(D9,MST!R:U,2,0) -> 0 | Q9: =VLOOKUP(D9,MST!R:U,3,0) -> 0
B10: 研究期間 | C10: 必須 | D10: 46478 | H10: 【選択してください】 | L10: =IFERROR(DATEDIF(D10,H10,"y")+1&"年間","#N/A年間") -> #N/A年間 | T10: 研究期間は自動計算です。
B11: 申請区分 | C11: 必須 | D11: 【選択してください】 | P11: =VLOOKUP(D11,MST!K:L,2,0) -> 0
B12: 研究代表者氏名 | C12: 必須 | D12: （フリガナ） | T12: 【所属機関名】
C13: 必須 | D13: （漢字等）
B14: 所属研究機関 | C14: 必須
B15: 部局 | C15: 必須
B16: 職名 | C16: 必須
B17: 研究キーワード（5つ） | C17: 必須
T18: 研究キーワード（和文／課題名に含まれていない語句）を必ず5つ記入してください。

Sheet ★記入例★
A1: 環境問題対応型（一般課題・ミディアムファンディング枠・技術実証型）、革新型研究開発（若手枠A・若手枠B）用
B2: 黄色いセルは必須入力/選択項目です（0円の場合は、「0」と入力してください。）。セルの高さは自動で調整されます。
B4: サブテーマ1 | D4: 3年間課題です | L4: （単位：千円）
C5: サブテーマ名： | D5: XXXXXXXXXXXXXX
C6: 研究機関： | D6: ○○大学、■■大学
D7: 46478 | G7: 46843 | J7: 47208
B8: 経費区分 | D8: 小計 | E8: 金額 | F8: 主な積算内訳 | G8: 小計 | H8: 金額 | I8: 主な積算内訳 | J8: 小計 | K8: 金額 | L8: 主な積算内訳
B9: ①物品費 | D9: 4600 | G9: 2600 | J9: 1300
C10: 設備備品費 | D10: 2500 | E10: 1500 | F10: サーマルサイクラー | G10: 500 | H10: 500 | I10: 分光光度計 | J10: 0 | K10: 0
E11: 500 | F11: 解析用PC | H11: 0 | K11: 0
C12: ※「他」の内訳の | E12: 500 | F12: 低温フリーザー | H12: 0 | K12: 0
C13: 記載は任意 | E13: 0 | F13: 他 | H13: 0 | I13: 他 | K13: 0 | L13: 他
C14: 消耗品費 | D14: 2100 | E14: 1000 | F14: 解析用試薬 | G14: 2100 | H14: 1000 | I14: 解析用試薬 | J14: 1300 | K14: 800 | L14: 解析用試薬
E15: 500 | F15: 培養用試薬 | H15: 500 | I15: 培養用試薬 | K15: 500 | L15: 培養用試薬
C16: ※「他」の内訳の | E16: 100 | F16: 解析用キット | H16: 100 | I16: 解析用キット | K16: 0
C17: 記載は任意 | E17: 500 | F17: 他(ガラス器具、フィルター等) | H17: 500 | I17: 他(ガラス器具、フィルター等) | K17: 0 | L17: 他
B18: ②人件費・謝金 | D18: 13200 | G18: 13440 | J18: 13440
C19: 人件費 | D19: 13000 | E19: 6000 | F19: 博士研究員1名 | G19: 13240 | H19: 6000 | I19: 博士研究員1名 | J19: 13240 | K19: 6000 | L19: 博士研究員1名
E20: 5000 | F20: 派遣社員1名 | H20: 5000 | I20: 派遣社員1名 | K20: 5000 | L20: 派遣社員1名
C21: ※「他」の内訳の | E21: 2000 | F21: 事務支援員1名 | H21: 2000 | I21: 事務支援員1名 | K21: 2000 | L21: 事務支援員1名
C22: 記載は任意 | E22: 0 | F22: 他 | H22: 240 | I22: 他（学生アルバイト20千円×12ヵ月） | K22: 240 | L22: 他（学生アルバイト20千円×12ヵ月）
C23: 謝金 | D23: 200 | E23: 200 | F23: アドバイザー3名 | G23: 200 | H23: 100 | I23: アドバイザー3名 | J23: 200 | K23: 100 | L23: アドバイザー3名
E24: 0 | H24: 100 | I24: 調査補助謝金（△△大学） | K24: 100 | L24: 講演謝金1名
C25: ※「他」の内訳の | E25: 0 | H25: 0 | K25: 0
C26: 記載は任意 | E26: 0 | F26: 他 | H26: 0 | I26: 他 | K26: 0 | L26: 他
B27: ③旅費 | D27: 440 | G27: 1350 | J27: 1020
C28: 旅費 | D28: 440 | E28: 200 | F28: 国内学会2名 | G28: 1350 | H28: 1000 | I28: 海外調査費1名 | J28: 1020 | K28: 700 | L28: 国際学会1名
E29: 120 | F29: KO会合3名 | H29: 200 | I29: 国内学会2名 | K29: 200 | L29: 国内学会2名
C30: ※「他」の内訳の | E30: 120 | F30: AD会合3名 | H30: 120 | I30: AD会合3名 | K30: 120 | L30: AD会合3名
C31: 記載は任意 | E31: 0 | F31: 他 | H31: 30 | I31: 他（シンポジウム10千円×3名） | K31: 0 | L31: 他
B32: ④その他 | D32: 4100 | G32: 3940 | J32: 3740
C33: 外注費（*） | D33: 2100 | E33: 1000 | F33: データ解析 | G33: 2100 | H33: 1000 | I33: データ解析 | J33: 2100 | K33: 1000 | L33: データ解析
E34: 600 | F34: 英文校閲費 | H34: 600 | I34: 英文校閲費 | K34: 600 | L34: 英文校閲費
C35: ※「他」の内訳の | E35: 500 | F35: オリゴDNA作成 | H35: 500 | I35: オリゴDNA作成 | K35: 500 | L35: オリゴDNA作成
C36: 記載は任意 | E36: 0 | F36: 他 | H36: 0 | I36: 他 | K36: 0 | L36: 他
C37: 印刷製本費 | D37: 20 | E37: 10 | F37: KO会合資料 | G37: 10 | H37: 10 | I37: AD会合資料 | J37: 10 | K37: 10 | L37: AD会合資料
C38: ※「他」の内訳の | E38: 10 | F38: AD会合資料 | H38: 0 | K38: 0
C39: 記載は任意 | E39: 0 | F39: 他 | H39: 0 | I39: 他 | K39: 0 | L39: 他
C40: 会議費 | D40: 300 | E40: 100 | F40: KO会合会議室使用料 | G40: 200 | H40: 100 | I40: AD会合会議室使用料 | J40: 100 | K40: 100 | L40: AD会合会議室使用料
C41: ※「他」の内訳の | E41: 100 | F41: AD会合会議室使用料 | H41: 100 | I41: 打ち合わせ会議室使用料 | K41: 0
...

Sheet 【問・革】経費サマリ
A1: 環境問題対応型（一般課題・ミディアムファンディング枠・技術実証型）、革新型研究開発（若手枠A・若手枠B）用
B2: 入力不要です。【問・革】ST1～【問・革】ST7シートを自動で転記します。
B3: （1）課題全体の各年度別経費
B5: =【共通】課題情報!L10&"課題です" -> #N/A年間課題です | G5: （単位：千円）
B6: 合計 （直接経費＋間接経費） | D6: =【共通】課題情報!D10 -> 46478 | E6: =D6+365 -> 46843 | F6: =E6+365 -> 47208 | G6: 総計
D7: =D24+D40+D56+D72+D88+D104+D120 -> 0 | E7: =E24+E40+E56+E72+E88+E104+E120 -> 0 | F7: =F24+F40+F56+F72+F88+F104+F120 -> 0 | G7: =D7+E7+F7 -> 0 | I7: =IFERROR(VLOOKUP(VALUE(【共通】課題情報!P11),MST!N:P,3,0),"")
D9: =IFERROR(IF(D7>$I$7,"上限額を超過しています",""),"") | E9: =IFERROR(IF(E7>$I$7,"上限額を超過しています",""),"") | F9: =IFERROR(IF(F7>$I$7,"上限額を超過しています",""),"") | G9: =IF(COUNTIF(D9:F9,"上限額を超過しています")>0,"上限額を超過している年度があります","")
B10: （2）各サブテーマの各年度別経費
B12: =B5 -> #N/A年間課題です | G12: （単位：千円）
B13: =" サブテーマ1 （"&【問・革】ST1!D6&"）" -> サブテーマ1 （）
B14: 経費区分 | D14: =$D$6 -> 46478 | E14: =$E$6 -> 46843 | F14: =$F$6 -> 47208 | G14: 計
B15: ①物品費 | C15: 設備備品費 | D15: =【問・革】ST1!D10 -> 0 | E15: =【問・革】ST1!G10 -> 0 | F15: =【問・革】ST1!J10 -> 0 | G15: =D15+E15+F15 -> 0
C16: 消耗品費 | D16: =【問・革】ST1!D14 -> 0 | E16: =【問・革】ST1!G14 -> 0 | F16: =【問・革】ST1!J14 -> 0 | G16: =D16+E16+F16 -> 0
B17: ②人件費・謝金 | D17: =【問・革】ST1!D18 -> 0 | E17: =【問・革】ST1!G18 -> 0 | F17: =【問・革】ST1!J18 -> 0 | G17: =D17+E17+F17 -> 0
B18: ③旅費 | D18: =【問・革】ST1!D27 -> 0 | E18: =【問・革】ST1!G27 -> 0 | F18: =【問・革】ST1!J27 -> 0 | G18: =D18+E18+F18 -> 0
B19: ④その他 | C19: 外注費 | D19: =【問・革】ST1!D33 -> 0 | E19: =【問・革】ST1!G33 -> 0 | F19: =【問・革】ST1!J33 -> 0 | G19: =D19+E19+F19 -> 0
C20: その他 | D20: =【問・革】ST1!D32-【問・革】ST1!D33 -> 0 | E20: =【問・革】ST1!G32-【問・革】ST1!G33 -> 0 | F20: =【問・革】ST1!J32-【問・革】ST1!J33 -> 0 | G20: =D20+E20+F20 -> 0
B21: （1）直接経費計 （①～④合計） | D21: =【問・革】ST1!D52 -> 0 | E21: =【問・革】ST1!G52 -> 0 | F21: =【問・革】ST1!J52 -> 0 | G21: =D21+E21+F21 -> 0
B22: （2）間接経費 | D22: =【問・革】ST1!D53 -> 0 | E22: =【問・革】ST1!G53 -> 0 | F22: =【問・革】ST1!J53 -> 0 | G22: =D22+E22+F22 -> 0
B23: （原則、直接経費の30％） | G23: =D23+E23+F23 -> 0
B24: サブテーマ1合計 （直接経費＋間接経費） | D24: =【問・革】ST1!D55 -> 0 | E24: =【問・革】ST1!G55 -> 0 | F24: =【問・革】ST1!J55 -> 0 | G24: =D24+E24+F24 -> 0
B28: =B5 -> #N/A年間課題です | G28: （単位：千円）
B29: =" サブテーマ2 （"&【問・革】ST2!D6&"）" -> サブテーマ2 （）
B30: 経費区分 | D30: =$D$6 -> 46478 | E30: =$E$6 -> 46843 | F30: =$F$6 -> 47208 | G30: 計
B31: ①物品費 | C31: 設備備品費 | D31: =【問・革】ST2!D10 -> 0 | E31: =【問・革】ST2!G10 -> 0 | F31: =【問・革】ST2!J10 -> 0 | G31: =D31+E31+F31 -> 0
C32: 消耗品費 | D32: =【問・革】ST2!D14 -> 0 | E32: =【問・革】ST2!G14 -> 0 | F32: =【問・革】ST2!J14 -> 0 | G32: =D32+E32+F32 -> 0
B33: ②人件費・謝金 | D33: =【問・革】ST2!D18 -> 0 | E33: =【問・革】ST2!G18 -> 0 | F33: =【問・革】ST2!J18 -> 0 | G33: =D33+E33+F33 -> 0
B34: ③旅費 | D34: =【問・革】ST2!D27 -> 0 | E34: =【問・革】ST2!G27 -> 0 | F34: =【問・革】ST2!J27 -> 0 | G34: =D34+E34+F34 -> 0
B35: ④その他 | C35: 外注費 | D35: =【問・革】ST2!D33 -> 0 | E35: =【問・革】ST2!G33 -> 0 | F35: =【問・革】ST2!J33 -> 0 | G35: =D35+E35+F35 -> 0
C36: その他 | D36: =【問・革】ST2!D32-【問・革】ST2!D33 -> 0 | E36: =【問・革】ST2!G32-【問・革】ST2!G33 -> 0 | F36: =【問・革】ST2!J32-【問・革】ST2!J33 -> 0 | G36: =D36+E36+F36 -> 0
B37: （1）直接経費計 （①～④合計） | D37: =【問・革】ST2!D52 -> 0 | E37: =【問・革】ST2!G52 -> 0 | F37: =【問・革】ST2!J52 -> 0 | G37: =D37+E37+F37 -> 0
B38: （2）間接経費 | D38: =【問・革】ST2!D53 -> 0 | E38: =【問・革】ST2!G53 -> 0 | F38: =【問・革】ST2!J53 -> 0 | G38: =D38+E38+F38 -> 0
B39: （原則、直接経費の30％） | G39: =D39+E39+F39 -> 0
B40: サブテーマ2合計 （直接経費＋間接経費） | D40: =【問・革】ST2!D55 -> 0 | E40: =【問・革】ST2!G55 -> 0 | F40: =【問・革】ST2!J55 -> 0 | G40: =D40+E40+F40 -> 0
B44: =B5 -> #N/A年間課題です | G44: （単位：千円）
B45: =" サブテーマ3 （"&【問・革】ST3!D6&"）" -> サブテーマ3 （）
B46: 経費区分 | D46: =$D$6 -> 46478 | E46: =$E$6 -> 46843 | F46: =$F$6 -> 47208 | G46: 計
B47: ①物品費 | C47: 設備備品費 | D47: =【問・革】ST3!D10 -> 0 | E47: =【問・革】ST3!G10 -> 0 | F47: =【問・革】ST3!J10 -> 0 | G47: =D47+E47+F47 -> 0
C48: 消耗品費 | D48: =【問・革】ST3!D14 -> 0 | E48: =【問・革】ST3!G14 -> 0 | F48: =【問・革】ST3!J14 -> 0 | G48: =D48+E48+F48 -> 0
B49: ②人件費・謝金 | D49: =【問・革】ST3!D18 -> 0 | E49: =【問・革】ST3!G18 -> 0 | F49: =【問・革】ST3!J18 -> 0 | G49: =D49+E49+F49 -> 0
...

Sheet 【問・革】ST1
A1: 環境問題対応型（一般課題・ミディアムファンディング枠・技術実証型）、革新型研究開発（若手枠A・若手枠B）用
B2: 黄色いセルは必須入力/選択項目です（0円の場合は、「0」と入力してください。）。セルの高さは自動で調整されます。
B4: サブテーマ1 | D4: =【共通】課題情報!L10&"課題です" -> #N/A年間課題です | K4: （単位：千円）
C5: サブテーマ名：
C6: 研究機関：
D7: =【問・革】経費サマリ!$D$6 -> 46478 | G7: =【問・革】経費サマリ!$E$6 -> 46843 | J7: =【問・革】経費サマリ!$F$6 -> 47208
B8: 経費区分 | D8: 小計 | E8: 金額 | F8: 主な積算内訳 | G8: 小計 | H8: 金額 | I8: 主な積算内訳 | J8: 小計 | K8: 金額 | L8: 主な積算内訳
B9: ①物品費 | D9: =SUM(D10:D17) -> 0 | G9: =SUM(G10:G17) -> 0 | J9: =SUM(J10:J17) -> 0
C10: 設備備品費 | D10: =SUM(E10:E13) -> 0 | G10: =SUM(H10:H13) -> 0 | J10: =SUM(K10:K13) -> 0
C12: ※「他」の内訳の
C13: 記載は任意 | F13: 他 | I13: 他 | L13: 他
C14: 消耗品費 | D14: =SUM(E14:E17) -> 0 | G14: =SUM(H14:H17) -> 0 | J14: =SUM(K14:K17) -> 0
C16: ※「他」の内訳の
C17: 記載は任意 | F17: 他 | I17: 他 | L17: 他
B18: ②人件費・謝金 | D18: =SUM(D19:D26) -> 0 | G18: =SUM(G19:G26) -> 0 | J18: =SUM(J19:J26) -> 0
C19: 人件費 | D19: =SUM(E19:E22) -> 0 | G19: =SUM(H19:H22) -> 0 | J19: =SUM(K19:K22) -> 0
C21: ※「他」の内訳の
C22: 記載は任意 | F22: 他 | I22: 他 | L22: 他
C23: 謝金 | D23: =SUM(E23:E26) -> 0 | G23: =SUM(H23:H26) -> 0 | J23: =SUM(K23:K26) -> 0
C25: ※「他」の内訳の
C26: 記載は任意 | F26: 他 | I26: 他 | L26: 他
B27: ③旅費 | D27: =D28 -> 0 | G27: =G28 -> 0 | J27: =J28 -> 0
C28: 旅費 | D28: =SUM(E28:E31) -> 0 | G28: =SUM(H28:H31) -> 0 | J28: =SUM(K28:K31) -> 0
C30: ※「他」の内訳の
C31: 記載は任意 | F31: 他 | I31: 他 | L31: 他
B32: ④その他 | D32: =SUM(D33:D51) -> 0 | G32: =SUM(G33:G51) -> 0 | J32: =SUM(J33:J51) -> 0
C33: 外注費（*） | D33: =SUM(E33:E36) -> 0 | G33: =SUM(H33:H36) -> 0 | J33: =SUM(K33:K36) -> 0
C35: ※「他」の内訳の
C36: 記載は任意 | F36: 他 | I36: 他 | L36: 他
C37: 印刷製本費 | D37: =SUM(E37:E39) -> 0 | G37: =SUM(H37:H39) -> 0 | J37: =SUM(K37:K39) -> 0
C38: ※「他」の内訳の
C39: 記載は任意 | F39: 他 | I39: 他 | L39: 他
C40: 会議費 | D40: =SUM(E40:E42) -> 0 | G40: =SUM(H40:H42) -> 0 | J40: =SUM(K40:K42) -> 0
C41: ※「他」の内訳の
C42: 記載は任意 | F42: 他 | I42: 他 | L42: 他
C43: 通信運搬費 | D43: =SUM(E43:E45) -> 0 | G43: =SUM(H43:H45) -> 0 | J43: =SUM(K43:K45) -> 0
C44: ※「他」の内訳の
C45: 記載は任意 | F45: 他 | I45: 他 | L45: 他
C46: 光熱水料 | D46: =SUM(E46:E47) -> 0 | G46: =SUM(H46:H47) -> 0 | J46: =SUM(K46:K47) -> 0
F47: 他 | I47: 他 | L47: 他
...

Sheet 【問・革】ST2
A1: 環境問題対応型（一般課題・ミディアムファンディング枠・技術実証型）、革新型研究開発（若手枠A・若手枠B）用
B2: 黄色いセルは必須入力/選択項目です（0円の場合は、「0」と入力してください。）。セルの高さは自動で調整されます。
B4: サブテーマ2 | D4: =【共通】課題情報!L10&"課題です" -> #N/A年間課題です | K4: （単位：千円）
C5: サブテーマ名：
C6: 研究機関：
D7: =【問・革】経費サマリ!$D$6 -> 46478 | G7: =【問・革】経費サマリ!$E$6 -> 46843 | J7: =【問・革】経費サマリ!$F$6 -> 47208
B8: 経費区分 | D8: 小計 | E8: 金額 | F8: 主な積算内訳 | G8: 小計 | H8: 金額 | I8: 主な積算内訳 | J8: 小計 | K8: 金額 | L8: 主な積算内訳
B9: ①物品費 | D9: =SUM(D10:D17) -> 0 | G9: =SUM(G10:G17) -> 0 | J9: =SUM(J10:J17) -> 0
C10: 設備備品費 | D10: =SUM(E10:E13) -> 0 | G10: =SUM(H10:H13) -> 0 | J10: =SUM(K10:K13) -> 0
C12: ※「他」の内訳の
C13: 記載は任意 | F13: 他 | I13: 他 | L13: 他
C14: 消耗品費 | D14: =SUM(E14:E17) -> 0 | G14: =SUM(H14:H17) -> 0 | J14: =SUM(K14:K17) -> 0
C16: ※「他」の内訳の
C17: 記載は任意 | F17: 他 | I17: 他 | L17: 他
B18: ②人件費・謝金 | D18: =SUM(D19:D26) -> 0 | G18: =SUM(G19:G26) -> 0 | J18: =SUM(J19:J26) -> 0
C19: 人件費 | D19: =SUM(E19:E22) -> 0 | G19: =SUM(H19:H22) -> 0 | J19: =SUM(K19:K22) -> 0
C21: ※「他」の内訳の
C22: 記載は任意 | F22: 他 | I22: 他 | L22: 他
C23: 謝金 | D23: =SUM(E23:E26) -> 0 | G23: =SUM(H23:H26) -> 0 | J23: =SUM(K23:K26) -> 0
C25: ※「他」の内訳の
C26: 記載は任意 | F26: 他 | I26: 他 | L26: 他
B27: ③旅費 | D27: =D28 -> 0 | G27: =G28 -> 0 | J27: =J28 -> 0
C28: 旅費 | D28: =SUM(E28:E31) -> 0 | G28: =SUM(H28:H31) -> 0 | J28: =SUM(K28:K31) -> 0
C30: ※「他」の内訳の
C31: 記載は任意 | F31: 他 | I31: 他 | L31: 他
B32: ④その他 | D32: =SUM(D33:D51) -> 0 | G32: =SUM(G33:G51) -> 0 | J32: =SUM(J33:J51) -> 0
C33: 外注費（*） | D33: =SUM(E33:E36) -> 0 | G33: =SUM(H33:H36) -> 0 | J33: =SUM(K33:K36) -> 0
C35: ※「他」の内訳の
C36: 記載は任意 | F36: 他 | I36: 他 | L36: 他
C37: 印刷製本費 | D37: =SUM(E37:E39) -> 0 | G37: =SUM(H37:H39) -> 0 | J37: =SUM(K37:K39) -> 0
C38: ※「他」の内訳の
C39: 記載は任意 | F39: 他 | I39: 他 | L39: 他
C40: 会議費 | D40: =SUM(E40:E42) -> 0 | G40: =SUM(H40:H42) -> 0 | J40: =SUM(K40:K42) -> 0
C41: ※「他」の内訳の
C42: 記載は任意 | F42: 他 | I42: 他 | L42: 他
C43: 通信運搬費 | D43: =SUM(E43:E45) -> 0 | G43: =SUM(H43:H45) -> 0 | J43: =SUM(K43:K45) -> 0
C44: ※「他」の内訳の
C45: 記載は任意 | F45: 他 | I45: 他 | L45: 他
C46: 光熱水料 | D46: =SUM(E46:E47) -> 0 | G46: =SUM(H46:H47) -> 0 | J46: =SUM(K46:K47) -> 0
F47: 他 | I47: 他 | L47: 他
...

Sheet 【問・革】ST3
A1: 環境問題対応型（一般課題・ミディアムファンディング枠・技術実証型）、革新型研究開発（若手枠A・若手枠B）用
B2: 黄色いセルは必須入力/選択項目です（0円の場合は、「0」と入力してください。）。セルの高さは自動で調整されます。
B4: サブテーマ3 | D4: =【共通】課題情報!L10&"課題です" -> #N/A年間課題です | K4: （単位：千円）
C5: サブテーマ名：
C6: 研究機関：
D7: =【問・革】経費サマリ!$D$6 -> 46478 | G7: =【問・革】経費サマリ!$E$6 -> 46843 | J7: =【問・革】経費サマリ!$F$6 -> 47208
B8: 経費区分 | D8: 小計 | E8: 金額 | F8: 主な積算内訳 | G8: 小計 | H8: 金額 | I8: 主な積算内訳 | J8: 小計 | K8: 金額 | L8: 主な積算内訳
B9: ①物品費 | D9: =SUM(D10:D17) -> 0 | G9: =SUM(G10:G17) -> 0 | J9: =SUM(J10:J17) -> 0
C10: 設備備品費 | D10: =SUM(E10:E13) -> 0 | G10: =SUM(H10:H13) -> 0 | J10: =SUM(K10:K13) -> 0
C12: ※「他」の内訳の
C13: 記載は任意 | F13: 他 | I13: 他 | L13: 他
C14: 消耗品費 | D14: =SUM(E14:E17) -> 0 | G14: =SUM(H14:H17) -> 0 | J14: =SUM(K14:K17) -> 0
C16: ※「他」の内訳の
C17: 記載は任意 | F17: 他 | I17: 他 | L17: 他
B18: ②人件費・謝金 | D18: =SUM(D19:D26) -> 0 | G18: =SUM(G19:G26) -> 0 | J18: =SUM(J19:J26) -> 0
C19: 人件費 | D19: =SUM(E19:E22) -> 0 | G19: =SUM(H19:H22) -> 0 | J19: =SUM(K19:K22) -> 0
C21: ※「他」の内訳の
C22: 記載は任意 | F22: 他 | I22: 他 | L22: 他
C23: 謝金 | D23: =SUM(E23:E26) -> 0 | G23: =SUM(H23:H26) -> 0 | J23: =SUM(K23:K26) -> 0
C25: ※「他」の内訳の
C26: 記載は任意 | F26: 他 | I26: 他 | L26: 他
B27: ③旅費 | D27: =D28 -> 0 | G27: =G28 -> 0 | J27: =J28 -> 0
C28: 旅費 | D28: =SUM(E28:E31) -> 0 | G28: =SUM(H28:H31) -> 0 | J28: =SUM(K28:K31) -> 0
C30: ※「他」の内訳の
C31: 記載は任意 | F31: 他 | I31: 他 | L31: 他
B32: ④その他 | D32: =SUM(D33:D51) -> 0 | G32: =SUM(G33:G51) -> 0 | J32: =SUM(J33:J51) -> 0
C33: 外注費（*） | D33: =SUM(E33:E36) -> 0 | G33: =SUM(H33:H36) -> 0 | J33: =SUM(K33:K36) -> 0
C35: ※「他」の内訳の
C36: 記載は任意 | F36: 他 | I36: 他 | L36: 他
C37: 印刷製本費 | D37: =SUM(E37:E39) -> 0 | G37: =SUM(H37:H39) -> 0 | J37: =SUM(K37:K39) -> 0
C38: ※「他」の内訳の
C39: 記載は任意 | F39: 他 | I39: 他 | L39: 他
C40: 会議費 | D40: =SUM(E40:E42) -> 0 | G40: =SUM(H40:H42) -> 0 | J40: =SUM(K40:K42) -> 0
C41: ※「他」の内訳の
C42: 記載は任意 | F42: 他 | I42: 他 | L42: 他
C43: 通信運搬費 | D43: =SUM(E43:E45) -> 0 | G43: =SUM(H43:H45) -> 0 | J43: =SUM(K43:K45) -> 0
C44: ※「他」の内訳の
C45: 記載は任意 | F45: 他 | I45: 他 | L45: 他
C46: 光熱水料 | D46: =SUM(E46:E47) -> 0 | G46: =SUM(H46:H47) -> 0 | J46: =SUM(K46:K47) -> 0
F47: 他 | I47: 他 | L47: 他
...

Sheet 【問・革】ST4
A1: 環境問題対応型（一般課題・ミディアムファンディング枠・技術実証型）、革新型研究開発（若手枠A・若手枠B）用
B2: 黄色いセルは必須入力/選択項目です（0円の場合は、「0」と入力してください。）。セルの高さは自動で調整されます。
B4: サブテーマ4 | D4: =【共通】課題情報!L10&"課題です" -> #N/A年間課題です | K4: （単位：千円）
C5: サブテーマ名：
C6: 研究機関：
D7: =【問・革】経費サマリ!$D$6 -> 46478 | G7: =【問・革】経費サマリ!$E$6 -> 46843 | J7: =【問・革】経費サマリ!$F$6 -> 47208
B8: 経費区分 | D8: 小計 | E8: 金額 | F8: 主な積算内訳 | G8: 小計 | H8: 金額 | I8: 主な積算内訳 | J8: 小計 | K8: 金額 | L8: 主な積算内訳
B9: ①物品費 | D9: =SUM(D10:D17) -> 0 | G9: =SUM(G10:G17) -> 0 | J9: =SUM(J10:J17) -> 0
C10: 設備備品費 | D10: =SUM(E10:E13) -> 0 | G10: =SUM(H10:H13) -> 0 | J10: =SUM(K10:K13) -> 0
C12: ※「他」の内訳の
C13: 記載は任意 | F13: 他 | I13: 他 | L13: 他
C14: 消耗品費 | D14: =SUM(E14:E17) -> 0 | G14: =SUM(H14:H17) -> 0 | J14: =SUM(K14:K17) -> 0
C16: ※「他」の内訳の
C17: 記載は任意 | F17: 他 | I17: 他 | L17: 他
B18: ②人件費・謝金 | D18: =SUM(D19:D26) -> 0 | G18: =SUM(G19:G26) -> 0 | J18: =SUM(J19:J26) -> 0
C19: 人件費 | D19: =SUM(E19:E22) -> 0 | G19: =SUM(H19:H22) -> 0 | J19: =SUM(K19:K22) -> 0
C21: ※「他」の内訳の
C22: 記載は任意 | F22: 他 | I22: 他 | L22: 他
C23: 謝金 | D23: =SUM(E23:E26) -> 0 | G23: =SUM(H23:H26) -> 0 | J23: =SUM(K23:K26) -> 0
C25: ※「他」の内訳の
C26: 記載は任意 | F26: 他 | I26: 他 | L26: 他
B27: ③旅費 | D27: =D28 -> 0 | G27: =G28 -> 0 | J27: =J28 -> 0
C28: 旅費 | D28: =SUM(E28:E31) -> 0 | G28: =SUM(H28:H31) -> 0 | J28: =SUM(K28:K31) -> 0
C30: ※「他」の内訳の
C31: 記載は任意 | F31: 他 | I31: 他 | L31: 他
B32: ④その他 | D32: =SUM(D33:D51) -> 0 | G32: =SUM(G33:G51) -> 0 | J32: =SUM(J33:J51) -> 0
C33: 外注費（*） | D33: =SUM(E33:E36) -> 0 | G33: =SUM(H33:H36) -> 0 | J33: =SUM(K33:K36) -> 0
C35: ※「他」の内訳の
C36: 記載は任意 | F36: 他 | I36: 他 | L36: 他
C37: 印刷製本費 | D37: =SUM(E37:E39) -> 0 | G37: =SUM(H37:H39) -> 0 | J37: =SUM(K37:K39) -> 0
C38: ※「他」の内訳の
C39: 記載は任意 | F39: 他 | I39: 他 | L39: 他
C40: 会議費 | D40: =SUM(E40:E42) -> 0 | G40: =SUM(H40:H42) -> 0 | J40: =SUM(K40:K42) -> 0
C41: ※「他」の内訳の
C42: 記載は任意 | F42: 他 | I42: 他 | L42: 他
C43: 通信運搬費 | D43: =SUM(E43:E45) -> 0 | G43: =SUM(H43:H45) -> 0 | J43: =SUM(K43:K45) -> 0
C44: ※「他」の内訳の
C45: 記載は任意 | F45: 他 | I45: 他 | L45: 他
C46: 光熱水料 | D46: =SUM(E46:E47) -> 0 | G46: =SUM(H46:H47) -> 0 | J46: =SUM(K46:K47) -> 0
F47: 他 | I47: 他 | L47: 他
...

Sheet 【問・革】ST5
A1: 環境問題対応型（一般課題・ミディアムファンディング枠・技術実証型）、革新型研究開発（若手枠A・若手枠B）用
B2: 黄色いセルは必須入力/選択項目です（0円の場合は、「0」と入力してください。）。セルの高さは自動で調整されます。
B4: サブテーマ5 | D4: =【共通】課題情報!L10&"課題です" -> #N/A年間課題です | K4: （単位：千円）
C5: サブテーマ名：
C6: 研究機関：
D7: =【問・革】経費サマリ!$D$6 -> 46478 | G7: =【問・革】経費サマリ!$E$6 -> 46843 | J7: =【問・革】経費サマリ!$F$6 -> 47208
B8: 経費区分 | D8: 小計 | E8: 金額 | F8: 主な積算内訳 | G8: 小計 | H8: 金額 | I8: 主な積算内訳 | J8: 小計 | K8: 金額 | L8: 主な積算内訳
B9: ①物品費 | D9: =SUM(D10:D17) -> 0 | G9: =SUM(G10:G17) -> 0 | J9: =SUM(J10:J17) -> 0
C10: 設備備品費 | D10: =SUM(E10:E13) -> 0 | G10: =SUM(H10:H13) -> 0 | J10: =SUM(K10:K13) -> 0
C12: ※「他」の内訳の
C13: 記載は任意 | F13: 他 | I13: 他 | L13: 他
C14: 消耗品費 | D14: =SUM(E14:E17) -> 0 | G14: =SUM(H14:H17) -> 0 | J14: =SUM(K14:K17) -> 0
C16: ※「他」の内訳の
C17: 記載は任意 | F17: 他 | I17: 他 | L17: 他
B18: ②人件費・謝金 | D18: =SUM(D19:D26) -> 0 | G18: =SUM(G19:G26) -> 0 | J18: =SUM(J19:J26) -> 0
C19: 人件費 | D19: =SUM(E19:E22) -> 0 | G19: =SUM(H19:H22) -> 0 | J19: =SUM(K19:K22) -> 0
C21: ※「他」の内訳の
C22: 記載は任意 | F22: 他 | I22: 他 | L22: 他
C23: 謝金 | D23: =SUM(E23:E26) -> 0 | G23: =SUM(H23:H26) -> 0 | J23: =SUM(K23:K26) -> 0
C25: ※「他」の内訳の
C26: 記載は任意 | F26: 他 | I26: 他 | L26: 他
B27: ③旅費 | D27: =D28 -> 0 | G27: =G28 -> 0 | J27: =J28 -> 0
C28: 旅費 | D28: =SUM(E28:E31) -> 0 | G28: =SUM(H28:H31) -> 0 | J28: =SUM(K28:K31) -> 0
C30: ※「他」の内訳の
C31: 記載は任意 | F31: 他 | I31: 他 | L31: 他
B32: ④その他 | D32: =SUM(D33:D51) -> 0 | G32: =SUM(G33:G51) -> 0 | J32: =SUM(J33:J51) -> 0
C33: 外注費（*） | D33: =SUM(E33:E36) -> 0 | G33: =SUM(H33:H36) -> 0 | J33: =SUM(K33:K36) -> 0
C35: ※「他」の内訳の
C36: 記載は任意 | F36: 他 | I36: 他 | L36: 他
C37: 印刷製本費 | D37: =SUM(E37:E39) -> 0 | G37: =SUM(H37:H39) -> 0 | J37: =SUM(K37:K39) -> 0
C38: ※「他」の内訳の
C39: 記載は任意 | F39: 他 | I39: 他 | L39: 他
C40: 会議費 | D40: =SUM(E40:E42) -> 0 | G40: =SUM(H40:H42) -> 0 | J40: =SUM(K40:K42) -> 0
C41: ※「他」の内訳の
C42: 記載は任意 | F42: 他 | I42: 他 | L42: 他
C43: 通信運搬費 | D43: =SUM(E43:E45) -> 0 | G43: =SUM(H43:H45) -> 0 | J43: =SUM(K43:K45) -> 0
C44: ※「他」の内訳の
C45: 記載は任意 | F45: 他 | I45: 他 | L45: 他
C46: 光熱水料 | D46: =SUM(E46:E47) -> 0 | G46: =SUM(H46:H47) -> 0 | J46: =SUM(K46:K47) -> 0
F47: 他 | I47: 他 | L47: 他
...

Sheet 【問・革】ST6
A1: 環境問題対応型（一般課題・ミディアムファンディング枠・技術実証型）、革新型研究開発（若手枠A・若手枠B）用
B2: 黄色いセルは必須入力/選択項目です（0円の場合は、「0」と入力してください。）。セルの高さは自動で調整されます。
B4: サブテーマ6 | D4: =【共通】課題情報!L10&"課題です" -> #N/A年間課題です | K4: （単位：千円）
C5: サブテーマ名：
C6: 研究機関：
D7: =【問・革】経費サマリ!$D$6 -> 46478 | G7: =【問・革】経費サマリ!$E$6 -> 46843 | J7: =【問・革】経費サマリ!$F$6 -> 47208
B8: 経費区分 | D8: 小計 | E8: 金額 | F8: 主な積算内訳 | G8: 小計 | H8: 金額 | I8: 主な積算内訳 | J8: 小計 | K8: 金額 | L8: 主な積算内訳
B9: ①物品費 | D9: =SUM(D10:D17) -> 0 | G9: =SUM(G10:G17) -> 0 | J9: =SUM(J10:J17) -> 0
C10: 設備備品費 | D10: =SUM(E10:E13) -> 0 | G10: =SUM(H10:H13) -> 0 | J10: =SUM(K10:K13) -> 0
C12: ※「他」の内訳の
C13: 記載は任意 | F13: 他 | I13: 他 | L13: 他
C14: 消耗品費 | D14: =SUM(E14:E17) -> 0 | G14: =SUM(H14:H17) -> 0 | J14: =SUM(K14:K17) -> 0
C16: ※「他」の内訳の
C17: 記載は任意 | F17: 他 | I17: 他 | L17: 他
B18: ②人件費・謝金 | D18: =SUM(D19:D26) -> 0 | G18: =SUM(G19:G26) -> 0 | J18: =SUM(J19:J26) -> 0
C19: 人件費 | D19: =SUM(E19:E22) -> 0 | G19: =SUM(H19:H22) -> 0 | J19: =SUM(K19:K22) -> 0
C21: ※「他」の内訳の
C22: 記載は任意 | F22: 他 | I22: 他 | L22: 他
C23: 謝金 | D23: =SUM(E23:E26) -> 0 | G23: =SUM(H23:H26) -> 0 | J23: =SUM(K23:K26) -> 0
C25: ※「他」の内訳の
C26: 記載は任意 | F26: 他 | I26: 他 | L26: 他
B27: ③旅費 | D27: =D28 -> 0 | G27: =G28 -> 0 | J27: =J28 -> 0
C28: 旅費 | D28: =SUM(E28:E31) -> 0 | G28: =SUM(H28:H31) -> 0 | J28: =SUM(K28:K31) -> 0
C30: ※「他」の内訳の
C31: 記載は任意 | F31: 他 | I31: 他 | L31: 他
B32: ④その他 | D32: =SUM(D33:D51) -> 0 | G32: =SUM(G33:G51) -> 0 | J32: =SUM(J33:J51) -> 0
C33: 外注費（*） | D33: =SUM(E33:E36) -> 0 | G33: =SUM(H33:H36) -> 0 | J33: =SUM(K33:K36) -> 0
C35: ※「他」の内訳の
C36: 記載は任意 | F36: 他 | I36: 他 | L36: 他
C37: 印刷製本費 | D37: =SUM(E37:E39) -> 0 | G37: =SUM(H37:H39) -> 0 | J37: =SUM(K37:K39) -> 0
C38: ※「他」の内訳の
C39: 記載は任意 | F39: 他 | I39: 他 | L39: 他
C40: 会議費 | D40: =SUM(E40:E42) -> 0 | G40: =SUM(H40:H42) -> 0 | J40: =SUM(K40:K42) -> 0
C41: ※「他」の内訳の
C42: 記載は任意 | F42: 他 | I42: 他 | L42: 他
C43: 通信運搬費 | D43: =SUM(E43:E45) -> 0 | G43: =SUM(H43:H45) -> 0 | J43: =SUM(K43:K45) -> 0
C44: ※「他」の内訳の
C45: 記載は任意 | F45: 他 | I45: 他 | L45: 他
C46: 光熱水料 | D46: =SUM(E46:E47) -> 0 | G46: =SUM(H46:H47) -> 0 | J46: =SUM(K46:K47) -> 0
F47: 他 | I47: 他 | L47: 他
...

Sheet 【問・革】ST7
A1: 環境問題対応型（一般課題・ミディアムファンディング枠・技術実証型）、革新型研究開発（若手枠A・若手枠B）用
B2: 黄色いセルは必須入力/選択項目です（0円の場合は、「0」と入力してください。）。セルの高さは自動で調整されます。
B4: サブテーマ7 | D4: =【共通】課題情報!L10&"課題です" -> #N/A年間課題です | K4: （単位：千円）
C5: サブテーマ名：
C6: 研究機関：
D7: =【問・革】経費サマリ!$D$6 -> 46478 | G7: =【問・革】経費サマリ!$E$6 -> 46843 | J7: =【問・革】経費サマリ!$F$6 -> 47208
B8: 経費区分 | D8: 小計 | E8: 金額 | F8: 主な積算内訳 | G8: 小計 | H8: 金額 | I8: 主な積算内訳 | J8: 小計 | K8: 金額 | L8: 主な積算内訳
B9: ①物品費 | D9: =SUM(D10:D17) -> 0 | G9: =SUM(G10:G17) -> 0 | J9: =SUM(J10:J17) -> 0
C10: 設備備品費 | D10: =SUM(E10:E13) -> 0 | G10: =SUM(H10:H13) -> 0 | J10: =SUM(K10:K13) -> 0
C12: ※「他」の内訳の
C13: 記載は任意 | F13: 他 | I13: 他 | L13: 他
C14: 消耗品費 | D14: =SUM(E14:E17) -> 0 | G14: =SUM(H14:H17) -> 0 | J14: =SUM(K14:K17) -> 0
C16: ※「他」の内訳の
C17: 記載は任意 | F17: 他 | I17: 他 | L17: 他
B18: ②人件費・謝金 | D18: =SUM(D19:D26) -> 0 | G18: =SUM(G19:G26) -> 0 | J18: =SUM(J19:J26) -> 0
C19: 人件費 | D19: =SUM(E19:E22) -> 0 | G19: =SUM(H19:H22) -> 0 | J19: =SUM(K19:K22) -> 0
C21: ※「他」の内訳の
C22: 記載は任意 | F22: 他 | I22: 他 | L22: 他
C23: 謝金 | D23: =SUM(E23:E26) -> 0 | G23: =SUM(H23:H26) -> 0 | J23: =SUM(K23:K26) -> 0
C25: ※「他」の内訳の
C26: 記載は任意 | F26: 他 | I26: 他 | L26: 他
B27: ③旅費 | D27: =D28 -> 0 | G27: =G28 -> 0 | J27: =J28 -> 0
C28: 旅費 | D28: =SUM(E28:E31) -> 0 | G28: =SUM(H28:H31) -> 0 | J28: =SUM(K28:K31) -> 0
C30: ※「他」の内訳の
C31: 記載は任意 | F31: 他 | I31: 他 | L31: 他
B32: ④その他 | D32: =SUM(D33:D51) -> 0 | G32: =SUM(G33:G51) -> 0 | J32: =SUM(J33:J51) -> 0
C33: 外注費（*） | D33: =SUM(E33:E36) -> 0 | G33: =SUM(H33:H36) -> 0 | J33: =SUM(K33:K36) -> 0
C35: ※「他」の内訳の
C36: 記載は任意 | F36: 他 | I36: 他 | L36: 他
C37: 印刷製本費 | D37: =SUM(E37:E39) -> 0 | G37: =SUM(H37:H39) -> 0 | J37: =SUM(K37:K39) -> 0
C38: ※「他」の内訳の
C39: 記載は任意 | F39: 他 | I39: 他 | L39: 他
C40: 会議費 | D40: =SUM(E40:E42) -> 0 | G40: =SUM(H40:H42) -> 0 | J40: =SUM(K40:K42) -> 0
C41: ※「他」の内訳の
C42: 記載は任意 | F42: 他 | I42: 他 | L42: 他
C43: 通信運搬費 | D43: =SUM(E43:E45) -> 0 | G43: =SUM(H43:H45) -> 0 | J43: =SUM(K43:K45) -> 0
C44: ※「他」の内訳の
C45: 記載は任意 | F45: 他 | I45: 他 | L45: 他
C46: 光熱水料 | D46: =SUM(E46:E47) -> 0 | G46: =SUM(H46:H47) -> 0 | J46: =SUM(K46:K47) -> 0
F47: 他 | I47: 他 | L47: 他
...

Sheet 【次世代】経費
A1: 次世代事業用
B2: （3）に入力してください。（1）及び（2）には自動で転記されます。
B3: 黄色いセルは必須入力/選択項目です（0円の場合は、「0」と入力してください。）。セルの高さは自動で調整されます。
B5: （1）課題全体の各年度別経費
B7: =【共通】課題情報!L10&"課題です" -> #N/A年間課題です | M7: （単位：千円）
B8: 補助対象経費 （直接経費＋間接経費－ 寄付金その他の収入額） | D8: =【共通】課題情報!D10 -> 46478 | G8: =D8+365 -> 46843 | J8: =G8+365 -> 47208 | M8: 総計
D9: =D26 -> 0 | G9: =G26 -> 0 | J9: =J26 -> 0 | M9: =D9+G9+J9 -> 0 | P9: =IFERROR(VLOOKUP(VALUE(【共通】課題情報!P11),MST!N:P,3,0),"")
D11: =IFERROR(IF(D9>$P$9,"上限額を超過しています",""),"") | G11: =IFERROR(IF(G9>$P$9,"上限額を超過しています",""),"") | J11: =IFERROR(IF(J9>$P$9,"上限額を超過しています",""),"") | N11: =IF(COUNTIF(D11:L11,"上限額を超過しています")>0,"上限額を超過している年度があります","")
B12: （2）各年度別経費
B14: =B7 -> #N/A年間課題です | M14: （単位：千円）
B15: 経費区分 | D15: =$D$8 -> 46478 | G15: =$G$8 -> 46843 | J15: =$J$8 -> 47208 | M15: 計
B16: ①物品費 | C16: 設備備品費 | D16: =D36 -> 0 | G16: =G36 -> 0 | J16: =J36 -> 0 | M16: =D16+G16+J16 -> 0
C17: 消耗品費 | D17: =D40 -> 0 | G17: =G40 -> 0 | J17: =J40 -> 0 | M17: =D17+G17+J17 -> 0
B18: ②人件費・謝金 | D18: =D44 -> 0 | G18: =G44 -> 0 | J18: =J44 -> 0 | M18: =D18+G18+J18 -> 0
B19: ③旅費 | D19: =D53 -> 0 | G19: =G53 -> 0 | J19: =J53 -> 0 | M19: =D19+G19+J19 -> 0
B20: ④その他 | C20: 外注費 | D20: =D59 -> 0 | G20: =G59 -> 0 | J20: =J59 -> 0 | M20: =D20+G20+J20 -> 0
C21: その他 | D21: =D58-D59 -> 0 | G21: =G58-G59 -> 0 | J21: =J58-J59 -> 0 | M21: =D21+G21+J21 -> 0
B22: （1）直接経費計 （①～④合計） | D22: =D78 -> 0 | G22: =G78 -> 0 | J22: =J78 -> 0 | M22: =D22+G22+J22 -> 0
B23: （2）間接経費 | D23: =D79 -> 0 | G23: =G79 -> 0 | J23: =J79 -> 0 | M23: =D23+G23+J23 -> 0
B24: =B80 -> （原則、直接経費の30％）
B25: （3）寄付金その他収入額 | D25: =D81 -> 0 | G25: =G81 -> 0 | J25: =J81 -> 0 | M25: =D25+G25+J25 -> 0
B26: 補助対象経費合計 （(1)＋(2)－(3)） | D26: =D82 -> 0 | G26: =G82 -> 0 | J26: =J82 -> 0 | M26: =D26+G26+J26 -> 0
B27: 補助金交付額 （補助率1/2） | D27: =ROUNDDOWN(D26/2,0) -> 0 | G27: =ROUNDDOWN(G26/2,0) -> 0 | J27: =ROUNDDOWN(J26/2,0) -> 0 | M27: =D27+G27+J27 -> 0
B30: （3）各年度経費内訳（金額・主な積算内容）
B32: =B7 -> #N/A年間課題です | J32: （単位：千円）
D33: =$D$8 -> 46478 | G33: =$G$8 -> 46843 | J33: =$J$8 -> 47208
B34: 経費区分 | D34: 小計 | E34: 金額 | F34: 主な積算内訳 | G34: 小計 | H34: 金額 | I34: 主な積算内訳 | J34: 小計 | K34: 金額 | L34: 主な積算内訳
B35: ①物品費 | D35: =SUM(D36:D43) -> 0 | G35: =SUM(G36:G43) -> 0 | J35: =SUM(J36:J43) -> 0
C36: 設備備品費 | D36: =SUM(E36:E39) -> 0 | G36: =SUM(H36:H39) -> 0 | J36: =SUM(K36:K39) -> 0
C38: ※「他」の内訳の
C39: 記載は任意 | F39: 他 | I39: 他 | L39: 他
C40: 消耗品費 | D40: =SUM(E40:E43) -> 0 | G40: =SUM(H40:H43) -> 0 | J40: =SUM(K40:K43) -> 0
C42: ※「他」の内訳の
C43: 記載は任意 | F43: 他 | I43: 他 | L43: 他
B44: ②人件費・謝金 | D44: =SUM(D45:D52) -> 0 | G44: =SUM(G45:G52) -> 0 | J44: =SUM(J45:J52) -> 0
C45: 人件費 | D45: =SUM(E45:E48) -> 0 | G45: =SUM(H45:H48) -> 0 | J45: =SUM(K45:K48) -> 0
C47: ※「他」の内訳の
C48: 記載は任意 | F48: 他 | I48: 他 | L48: 他
C49: 謝金 | D49: =SUM(E49:E52) -> 0 | G49: =SUM(H49:H52) -> 0 | J49: =SUM(K49:K52) -> 0
C51: ※「他」の内訳の
...
