Workbook
Name 【選択してください】: [1]MST!#REF!
Name 【選択してください】: [1]MST!#REF!
Name 【選択してください】: [1]MST!#REF!
Name 【選択してください】: [1]MST!#REF!
Name 【選択してください】: [1]MST!#REF!
Name 【選択してください】: MST!#REF!
Name ①公募区分: MST!#REF!
Name 革新型研究開発: [1]MST!#REF!
Name 革新型研究開発: [1]MST!#REF!
Name 革新型研究開発: [1]MST!#REF!
Name 革新型研究開発: [1]MST!#REF!
Name 革新型研究開発: [1]MST!#REF!
Name 革新型研究開発: MST!#REF!
Name 環境問題対応型研究: [1]MST!#REF!
Name 環境問題対応型研究: [1]MST!#REF!
Name 環境問題対応型研究: [1]MST!#REF!
Name 環境問題対応型研究: [1]MST!#REF!
Name 環境問題対応型研究: [1]MST!#REF!
Name 環境問題対応型研究: MST!#REF!
Name 次世代事業: [1]MST!#REF!
Name 次世代事業: [1]MST!#REF!
Name 次世代事業: [1]MST!#REF!
Name 次世代事業: [1]MST!#REF!
Name 次世代事業: [1]MST!#REF!
Name 次世代事業: MST!#REF!

Sheet MST
A1: 2027戦 | B1: サブテーマ名 | C1: 終了 | D1: 申請上限 | G1: PJT番号 | H1: T番号 | I1: ST番号 | K1: 課題名
B2: 【選択してください】 | C2: ※自動で入力されます。
B3: =_xlfn.CONCAT(F3:K3) -> S-26-1(1)_気候安全保障の政策評価ツールの構築 | C3: 48304 | D3: 23790 | G3: S-26 | H3: -1 | I3: (1) | J3: _ | K3: 気候安全保障の政策評価ツールの構築
B4: =_xlfn.CONCAT(F4:K4) -> S-26-1(2)_日本の外交・安全保障への気候変動リスク評価 | C4: 48304 | D4: 6500 | G4: S-26 | H4: -1 | I4: (2) | J4: _ | K4: 日本の外交・安全保障への気候変動リスク評価
B5: =_xlfn.CONCAT(F5:K5) -> S-26-1(3)_気候変動に伴う国際人口移動推計とその影響評価 | C5: 48304 | D5: 10010 | G5: S-26 | H5: -1 | I5: (3) | J5: _ | K5: 気候変動に伴う国際人口移動推計とその影響評価
B6: =_xlfn.CONCAT(F6:K6) -> S-26-2(1)_気候転換リスク評価に向けた気候シナリオ創出 | C6: 48304 | D6: 16900 | G6: S-26 | H6: -2 | I6: (1) | J6: _ | K6: 気候転換リスク評価に向けた気候シナリオ創出
B7: =_xlfn.CONCAT(F7:K7) -> S-26-2(2)_気候転換リスク評価に向けた海洋・氷床変動の分析 | C7: 48304 | D7: 14040 | G7: S-26 | H7: -2 | I7: (2) | J7: _ | K7: 気候転換リスク評価に向けた海洋・氷床変動の分析
B8: =_xlfn.CONCAT(F8:K8) -> S-26-2(3)_気候転換リスク評価に向けた大気・海洋・陸域変動の分析 | C8: 48304 | D8: 14040 | G8: S-26 | H8: -2 | I8: (3) | J8: _ | K8: 気候転換リスク評価に向けた大気・海洋・陸域変動の分析
B9: =_xlfn.CONCAT(F9:K9) -> S-26-3(1)_気候転換現象が水資源に及ぼす世界的な影響と日本への波及の評価 | C9: 48304 | D9: 14950 | G9: S-26 | H9: -3 | I9: (1) | J9: _ | K9: 気候転換現象が水資源に及ぼす世界的な影響と日本への波及の評価
B10: =_xlfn.CONCAT(F10:K10) -> S-26-3(2)_気候転換現象が水災害に及ぼす世界的な影響と日本への波及の評価 | C10: 48304 | D10: 14950 | G10: S-26 | H10: -3 | I10: (2) | J10: _ | K10: 気候転換現象が水災害に及ぼす世界的な影響と日本への波及の評価
B11: =_xlfn.CONCAT(F11:K11) -> S-26-3(3)_気候転換現象が食料生産に及ぼす世界的な影響と日本への波及の評価 | C11: 48304 | D11: 14950 | G11: S-26 | H11: -3 | I11: (3) | J11: _ | K11: 気候転換現象が食料生産に及ぼす世界的な影響と日本への波及の評価
B12: =_xlfn.CONCAT(F12:K12) -> S-26-4(1)_気候転換リスクの経済的費用の統合評価 | C12: 48304 | D12: 14950 | G12: S-26 | H12: -4 | I12: (1) | J12: _ | K12: 気候転換リスクの経済的費用の統合評価
B13: =_xlfn.CONCAT(F13:K13) -> S-26-4(2)_応用一般均衡モデルによる気候転換リスクの経済影響評価 | C13: 48304 | D13: 10010 | G13: S-26 | H13: -4 | I13: (2) | J13: _ | K13: 応用一般均衡モデルによる気候転換リスクの経済影響評価
B14: =_xlfn.CONCAT(F14:K14) -> S-26-4(3)_気候転換リスクの健康影響評価 | C14: 48304 | D14: 10010 | G14: S-26 | H14: -4 | I14: (3) | J14: _ | K14: 気候転換リスクの健康影響評価
... B26: =_xlfn.CONCAT(F26:K26) -> SⅡ-14-3(2)_長期シナリオ・統合モデル研究に基づくビヨンドSDGsシナリオモデリング基盤への接続手法の体系化 | C26: 47573 | D26: 10000 | G26: SⅡ-14 | H26: -3 | I26: (2) | J26: _ | K26: 長期シナリオ・統合モデル研究に基づくビヨンドSDGsシナリオモデリング基盤への接続手法の体系化

Sheet 課題情報
A1: 戦略的研究開発課題（令和9年度新規課題公募） | H1: e-Radの課題番号 | P1: ◆「27」から始まるe-Radの課題番号（8桁）を入力してください。
B2: 黄色いセルは必須入力/選択項目です。
B4: 申請サブテーマ | C4: 必須 | D4: 【選択してください】
B5: 研究期間 | D5: 46478 | H5: =VLOOKUP(D4,MST!B:C,2,0) -> ※自動で入力されます。 | L5: =IFERROR(DATEDIF(D5,H5,"y")+1&"年間","#N/A年間") -> #N/A年間 | P5: 研究期間は自動計算です。
B6: 研究代表者 (サブテーマリーダー） 氏名 | C6: 必須 | D6: （フリガナ） | F6: セイ | J6: メイ | P6: 【所属機関名】
C7: 必須 | D7: （漢字等） | F7: 姓 | J7: 名
B8: 所属研究機関 | C8: 必須
B9: 部局 | C9: 必須
B10: 職名 | C10: 必須
B11: 研究キーワード（5つ） | C11: 必須
P12: 研究キーワード（和文／課題名に含まれていない語句）を必ず5つ記入してください。

Sheet ★記入例★
A1: 記入例
B2: 黄色いセルは必須入力/選択項目です（0円の場合は、「0」と入力してください。）。セルの高さは自動で調整されます。
J4: （単位：千円）
D5: ='【S-26】経費サマリ'!$D$6 -> 46478 | G5: ='【S-26】経費サマリ'!$E$6 -> 46843 | J5: ='【S-26】経費サマリ'!$F$6 -> 47208
B6: 経費区分 | D6: 小計 | E6: 金額 | F6: 主な積算内訳 | G6: 小計 | H6: 金額 | I6: 主な積算内訳 | J6: 小計 | K6: 金額 | L6: 主な積算内訳
B7: ①物品費 | D7: =SUM(D8:D15) -> 4600 | G7: =SUM(G8:G15) -> 2600 | J7: =SUM(J8:J15) -> 1300
C8: 設備備品費 | D8: =SUM(E8:E11) -> 2500 | E8: 1500 | F8: サーマルサイクラー | G8: =SUM(H8:H11) -> 500 | H8: 500 | I8: 分光光度計 | J8: =SUM(K8:K11) -> 0 | K8: 0
E9: 500 | F9: 解析用PC | H9: 0 | K9: 0
C10: ※「他」の内訳の | E10: 500 | F10: 低温フリーザー | H10: 0 | K10: 0
C11: 記載は任意 | E11: 0 | F11: 他 | H11: 0 | I11: 他 | K11: 0 | L11: 他
C12: 消耗品費 | D12: =SUM(E12:E15) -> 2100 | E12: 1000 | F12: 解析用試薬 | G12: =SUM(H12:H15) -> 2100 | H12: 1000 | I12: 解析用試薬 | J12: =SUM(K12:K15) -> 1300 | K12: 800 | L12: 解析用試薬
E13: 500 | F13: 培養用試薬 | H13: 500 | I13: 培養用試薬 | K13: 500 | L13: 培養用試薬
C14: ※「他」の内訳の | E14: 100 | F14: 解析用キット | H14: 100 | I14: 解析用キット | K14: 0
C15: 記載は任意 | E15: 500 | F15: 他(ガラス器具、フィルター等) | H15: 500 | I15: 他(ガラス器具、フィルター等) | K15: 0 | L15: 他
B16: ②人件費・謝金 | D16: =SUM(D17:D24) -> 13200 | G16: =SUM(G17:G24) -> 13440 | J16: =SUM(J17:J24) -> 13440
C17: 人件費 | D17: =SUM(E17:E20) -> 13000 | E17: 6000 | F17: 博士研究員1名 | G17: =SUM(H17:H20) -> 13240 | H17: 6000 | I17: 博士研究員1名 | J17: =SUM(K17:K20) -> 13240 | K17: 6000 | L17: 博士研究員1名
E18: 5000 | F18: 派遣社員1名 | H18: 5000 | I18: 派遣社員1名 | K18: 5000 | L18: 派遣社員1名
C19: ※「他」の内訳の | E19: 2000 | F19: 事務支援員1名 | H19: 2000 | I19: 事務支援員1名 | K19: 2000 | L19: 事務支援員1名
C20: 記載は任意 | E20: 0 | F20: 他 | H20: 240 | I20: 他（学生アルバイト20千円×12ヵ月） | K20: 240 | L20: 他（学生アルバイト20千円×12ヵ月）
C21: 謝金 | D21: =SUM(E21:E24) -> 200 | E21: 200 | F21: アドバイザー3名 | G21: =SUM(H21:H24) -> 200 | H21: 100 | I21: アドバイザー3名 | J21: =SUM(K21:K24) -> 200 | K21: 100 | L21: アドバイザー3名
E22: 0 | H22: 100 | I22: 調査補助謝金（△△大学） | K22: 100 | L22: 講演謝金1名
C23: ※「他」の内訳の | E23: 0 | H23: 0 | K23: 0
C24: 記載は任意 | E24: 0 | F24: 他 | H24: 0 | I24: 他 | K24: 0 | L24: 他
B25: ③旅費 | D25: =D26 -> 440 | G25: =G26 -> 1350 | J25: =J26 -> 1020
C26: 旅費 | D26: =SUM(E26:E29) -> 440 | E26: 200 | F26: 国内学会2名 | G26: =SUM(H26:H29) -> 1350 | H26: 1000 | I26: 海外調査費1名 | J26: =SUM(K26:K29) -> 1020 | K26: 700 | L26: 国際学会1名
E27: 120 | F27: KO会合3名 | H27: 200 | I27: 国内学会2名 | K27: 200 | L27: 国内学会2名
C28: ※「他」の内訳の | E28: 120 | F28: AD会合3名 | H28: 120 | I28: AD会合3名 | K28: 120 | L28: AD会合3名
C29: 記載は任意 | E29: 0 | F29: 他 | H29: 30 | I29: 他（シンポジウム10千円×3名） | K29: 0 | L29: 他
B30: ④その他 | D30: =SUM(D31:D49) -> 4100 | G30: =SUM(G31:G49) -> 3940 | J30: =SUM(J31:J49) -> 3740
C31: 外注費（*） | D31: =SUM(E31:E34) -> 2100 | E31: 1000 | F31: データ解析 | G31: =SUM(H31:H34) -> 2100 | H31: 1000 | I31: データ解析 | J31: =SUM(K31:K34) -> 2100 | K31: 1000 | L31: データ解析
E32: 600 | F32: 英文校閲費 | H32: 600 | I32: 英文校閲費 | K32: 600 | L32: 英文校閲費
C33: ※「他」の内訳の | E33: 500 | F33: オリゴDNA作成 | H33: 500 | I33: オリゴDNA作成 | K33: 500 | L33: オリゴDNA作成
C34: 記載は任意 | E34: 0 | F34: 他 | H34: 0 | I34: 他 | K34: 0 | L34: 他
C35: 印刷製本費 | D35: =SUM(E35:E37) -> 20 | E35: 10 | F35: KO会合資料 | G35: =SUM(H35:H37) -> 10 | H35: 10 | I35: AD会合資料 | J35: =SUM(K35:K37) -> 10 | K35: 10 | L35: AD会合資料
C36: ※「他」の内訳の | E36: 10 | F36: AD会合資料 | H36: 0 | K36: 0
C37: 記載は任意 | E37: 0 | F37: 他 | H37: 0 | I37: 他 | K37: 0 | L37: 他
C38: 会議費 | D38: =SUM(E38:E40) -> 300 | E38: 100 | F38: KO会合会議室使用料 | G38: =SUM(H38:H40) -> 200 | H38: 100 | I38: AD会合会議室使用料 | J38: =SUM(K38:K40) -> 100 | K38: 100 | L38: AD会合会議室使用料
C39: ※「他」の内訳の | E39: 100 | F39: AD会合会議室使用料 | H39: 100 | I39: 打ち合わせ会議室使用料 | K39: 0
C40: 記載は任意 | E40: 100 | F40: 他（打ち合わせ会議室使用料） | H40: 0 | I40: 他 | K40: 0 | L40: 他
C41: 通信運搬費 | D41: =SUM(E41:E43) -> 250 | E41: 100 | F41: 試料輸送料 | G41: =SUM(H41:H43) -> 200 | H41: 100 | I41: 試料輸送料 | J41: =SUM(K41:K43) -> 200 | K41: 100 | L41: 試料輸送料
C42: ※「他」の内訳の | E42: 100 | F42: 機器輸送料 | H42: 100 | I42: 機器輸送料 | K42: 100 | L42: 機器輸送料
C43: 記載は任意 | E43: 50 | F43: 他 | H43: 0 | I43: 他 | K43: 0 | L43: 他
C44: 光熱水料 | D44: =SUM(E44:E45) -> 0 | E44: 0 | G44: =SUM(H44:H45) -> 0 | H44: 0 | J44: =SUM(K44:K45) -> 100 | K44: 100 | L44: 恒温室光熱費
E45: 0 | F45: 他 | H45: 0 | I45: 他 | K45: 0 | L45: 他
C46: その他（諸経費） | D46: =SUM(E46:E48) -> 1420 | E46: 1000 | F46: 論文投稿費（500千円×2) | G46: =SUM(H46:H48) -> 1420 | H46: 1000 | I46: 論文投稿費（500千円×2) | J46: =SUM(K46:K48) -> 1220 | K46: 800 | L46: 恒温室100千円×8か月
E47: 400 | F47: 解析ソフトウェア年間ライセンス | H47: 400 | I47: 解析ソフトウェア年間ライセンス | K47: 400 | L47: 解析ソフトウェア年間ライセンス
E48: 20 | F48: 学会参加費（国内学会10千円×2名） | H48: 20 | I48: 学会参加費（国内学会10千円×2名） | K48: 20 | L48: 学会参加費（国際学会50千円×1名、国内学会10千円×2名）
C49: 消費税相当額 | D49: =E49 -> 10 | E49: 10 | G49: =H49 -> 10 | H49: 10 | J49: =K49 -> 10 | K49: 10
B50: （1）直接経費計 （①～④合計） | D50: =D7+D16+D25+D30 -> 22340 | G50: =G7+G16+G25+G30 -> 21330 | J50: =J7+J16+J25+J30 -> 19500
B51: （2）間接経費 | D51: =ROUNDDOWN(D50*30/100,0) -> 6702 | E51: =IFERROR(IF(D51/D50>0.3,"間接経費が30％を超過しています",""),"") | G51: =ROUNDDOWN(G50*30/100,0) -> 6399 | H51: =IFERROR(IF(G51/G50>0.3,"間接経費が30％を超過しています",""),"") | J51: =ROUNDDOWN(J50*30/100,0) -> 5850 | K51: =IFERROR(IF(J51/J50>0.3,"間接経費が30％を超過しています",""),"")
B52: （原則、直接経費の30％） | F52: =IFERROR("間接経費率："&TEXT(D51/D50*100,"0")&"%","") -> 間接経費率：30% | I52: =IFERROR("間接経費率："&TEXT(G51/G50*100,"0")&"%","") -> 間接経費率：30% | L52: =IFERROR("間接経費率："&TEXT(J51/J50*100,"0")&"%","") -> 間接経費率：30%
B53: サブテーマ合計 （直接経費＋間接経費） | D53: =D50+D51 -> 29042 | G53: =G50+G51 -> 27729 | J53: =J50+J51 -> 25350
B54: （*）外注費：研究代表機関又は研究分担機関が行うべき本質的な業務は不可。なお、原則、各サブテーマにおける研究機関ごとに、直接経費の１/２までとする。
B55: （**）間接経費率が30%ではない場合の説明 （記入例） ●●大学：○%、●●機構：○%）：

Sheet 【S-26】経費サマリ
A1: 【S-26】経費サマリ
B2: 入力不要です。【S-26】経費内訳シートを自動で転記します。
B3: （1）課題全体の各年度別経費
I5: （単位：千円）
B6: 合計 （直接経費＋間接経費） | D6: =課題情報!D5 -> 46478 | E6: =D6+365 -> 46843 | F6: =E6+365 -> 47208 | G6: =F6+365 -> 47573 | H6: =G6+365 -> 47938 | I6: 総計
D7: =D23 -> 0 | E7: =E23 -> 0 | F7: =F23 -> 0 | G7: =G23 -> 0 | H7: =H23 -> 0 | I7: =D7+E7+F7+G7+H7 -> 0 | K7: =VLOOKUP(課題情報!D4,MST!B:D,3,0) -> 0
D9: =IFERROR(IF(D7>$K$7,"上限額を超過しています",""),"") | E9: =IFERROR(IF(E7>$K$7,"上限額を超過しています",""),"") | F9: =IFERROR(IF(F7>$K$7,"上限額を超過しています",""),"") | G9: =IFERROR(IF(G7>$K$7,"上限額を超過しています",""),"") | H9: =IFERROR(IF(H7>$K$7,"上限額を超過しています",""),"") | I9: =IF(COUNTIF(D9:H9,"上限額を超過しています")>0,"上限額を超過している年度があります","")
B10: （2）各年度別経費
I12: （単位：千円）
B13: 経費区分 | D13: =$D$6 -> 46478 | E13: =$E$6 -> 46843 | F13: =$F$6 -> 47208 | G13: =$G$6 -> 47573 | H13: =$H$6 -> 47938 | I13: 計
B14: ①物品費 | C14: 設備備品費 | D14: ='【S-26】経費内訳'!D8 -> 0 | E14: ='【S-26】経費内訳'!G8 -> 0 | F14: ='【S-26】経費内訳'!J8 -> 0 | G14: ='【S-26】経費内訳'!O8 -> 0 | H14: ='【S-26】経費内訳'!R8 -> 0 | I14: =D14+E14+F14+G14+H14 -> 0
C15: 消耗品費 | D15: ='【S-26】経費内訳'!D12 -> 0 | E15: ='【S-26】経費内訳'!G12 -> 0 | F15: ='【S-26】経費内訳'!J12 -> 0 | G15: ='【S-26】経費内訳'!O12 -> 0 | H15: ='【S-26】経費内訳'!R12 -> 0 | I15: =D15+E15+F15+G15+H15 -> 0
B16: ②人件費・謝金 | D16: ='【S-26】経費内訳'!D16 -> 0 | E16: ='【S-26】経費内訳'!G16 -> 0 | F16: ='【S-26】経費内訳'!J16 -> 0 | G16: ='【S-26】経費内訳'!O16 -> 0 | H16: ='【S-26】経費内訳'!R16 -> 0 | I16: =D16+E16+F16+G16+H16 -> 0
B17: ③旅費 | D17: ='【S-26】経費内訳'!D25 -> 0 | E17: ='【S-26】経費内訳'!G25 -> 0 | F17: ='【S-26】経費内訳'!J25 -> 0 | G17: ='【S-26】経費内訳'!O25 -> 0 | H17: ='【S-26】経費内訳'!R25 -> 0 | I17: =D17+E17+F17+G17+H17 -> 0
B18: ④その他 | C18: 外注費 | D18: ='【S-26】経費内訳'!D31 -> 0 | E18: ='【S-26】経費内訳'!G31 -> 0 | F18: ='【S-26】経費内訳'!J31 -> 0 | G18: ='【S-26】経費内訳'!O31 -> 0 | H18: ='【S-26】経費内訳'!R31 -> 0 | I18: =D18+E18+F18+G18+H18 -> 0
C19: その他 | D19: ='【S-26】経費内訳'!D30-'【S-26】経費内訳'!D31 -> 0 | E19: ='【S-26】経費内訳'!G30-'【S-26】経費内訳'!G31 -> 0 | F19: ='【S-26】経費内訳'!J30-'【S-26】経費内訳'!J31 -> 0 | G19: ='【S-26】経費内訳'!O30-'【S-26】経費内訳'!O31 -> 0 | H19: ='【S-26】経費内訳'!R30-'【S-26】経費内訳'!R31 -> 0 | I19: =D19+E19+F19+G19+H19 -> 0
B20: （1）直接経費計 （①～④合計） | D20: ='【S-26】経費内訳'!D50 -> 0 | E20: ='【S-26】経費内訳'!G50 -> 0 | F20: ='【S-26】経費内訳'!J50 -> 0 | G20: ='【S-26】経費内訳'!O50 -> 0 | H20: ='【S-26】経費内訳'!R50 -> 0 | I20: =D20+E20+F20+G20+H20 -> 0
B21: （2）間接経費 | D21: ='【S-26】経費内訳'!D51 -> 0 | E21: ='【S-26】経費内訳'!G51 -> 0 | F21: ='【S-26】経費内訳'!J51 -> 0 | G21: ='【S-26】経費内訳'!O51 -> 0 | H21: ='【S-26】経費内訳'!R51 -> 0 | I21: =D21+E21+F21+G21+H21 -> 0
B22: （原則、直接経費の30％） | I22: =D22+E22+F22 -> 0
B23: サブテーマ合計 （直接経費＋間接経費） | D23: ='【S-26】経費内訳'!D53 -> 0 | E23: ='【S-26】経費内訳'!G53 -> 0 | F23: ='【S-26】経費内訳'!J53 -> 0 | G23: ='【S-26】経費内訳'!O53 -> 0 | H23: ='【S-26】経費内訳'!R53 -> 0 | I23: =D23+E23+F23+G23+H23 -> 0

Sheet 【S-26】経費内訳
A1: 【S-26】経費内訳
B2: 黄色いセルは必須入力/選択項目です（0円の場合は、「0」と入力してください。）。セルの高さは自動で調整されます。
J4: （単位：千円） | R4: （単位：千円）
D5: ='【S-26】経費サマリ'!$D$6 -> 46478 | G5: ='【S-26】経費サマリ'!$E$6 -> 46843 | J5: ='【S-26】経費サマリ'!$F$6 -> 47208 | O5: ='【S-26】経費サマリ'!G6 -> 47573 | R5: ='【S-26】経費サマリ'!H6 -> 47938
B6: 経費区分 | D6: 小計 | E6: 金額 | F6: 主な積算内訳 | G6: 小計 | H6: 金額 | I6: 主な積算内訳 | J6: 小計 | K6: 金額 | L6: 主な積算内訳 | M6: 経費区分 | O6: 小計 | P6: 金額 | Q6: 主な積算内訳 | R6: 小計 | S6: 金額 | T6: 主な積算内訳
B7: ①物品費 | D7: =SUM(D8:D15) -> 0 | G7: =SUM(G8:G15) -> 0 | J7: =SUM(J8:J15) -> 0 | M7: ①物品費 | O7: =SUM(O8:O15) -> 0 | R7: =SUM(R8:R15) -> 0
C8: 設備備品費 | D8: =SUM(E8:E11) -> 0 | G8: =SUM(H8:H11) -> 0 | J8: =SUM(K8:K11) -> 0 | N8: 設備備品費 | O8: =SUM(P8:P11) -> 0 | R8: =SUM(S8:S11) -> 0
C10: ※「他」の内訳の | N10: ※「他」の内訳の
C11: 記載は任意 | F11: 他 | I11: 他 | L11: 他 | N11: 記載は任意 | Q11: 他 | T11: 他
C12: 消耗品費 | D12: =SUM(E12:E15) -> 0 | G12: =SUM(H12:H15) -> 0 | J12: =SUM(K12:K15) -> 0 | N12: 消耗品費 | O12: =SUM(P12:P15) -> 0 | R12: =SUM(S12:S15) -> 0
C14: ※「他」の内訳の | N14: ※「他」の内訳の
C15: 記載は任意 | F15: 他 | I15: 他 | L15: 他 | N15: 記載は任意 | Q15: 他 | T15: 他
B16: ②人件費・謝金 | D16: =SUM(D17:D24) -> 0 | G16: =SUM(G17:G24) -> 0 | J16: =SUM(J17:J24) -> 0 | M16: ②人件費・謝金 | O16: =SUM(O17:O24) -> 0 | R16: =SUM(R17:R24) -> 0
C17: 人件費 | D17: =SUM(E17:E20) -> 0 | G17: =SUM(H17:H20) -> 0 | J17: =SUM(K17:K20) -> 0 | N17: 人件費 | O17: =SUM(P17:P20) -> 0 | R17: =SUM(S17:S20) -> 0
C19: ※「他」の内訳の | N19: ※「他」の内訳の
C20: 記載は任意 | F20: 他 | I20: 他 | L20: 他 | N20: 記載は任意 | Q20: 他 | T20: 他
C21: 謝金 | D21: =SUM(E21:E24) -> 0 | G21: =SUM(H21:H24) -> 0 | J21: =SUM(K21:K24) -> 0 | N21: 謝金 | O21: =SUM(P21:P24) -> 0 | R21: =SUM(S21:S24) -> 0
C23: ※「他」の内訳の | N23: ※「他」の内訳の
C24: 記載は任意 | F24: 他 | I24: 他 | L24: 他 | N24: 記載は任意 | Q24: 他 | T24: 他
B25: ③旅費 | D25: =D26 -> 0 | G25: =G26 -> 0 | J25: =J26 -> 0 | M25: ③旅費 | O25: =O26 -> 0 | R25: =R26 -> 0
C26: 旅費 | D26: =SUM(E26:E29) -> 0 | G26: =SUM(H26:H29) -> 0 | J26: =SUM(K26:K29) -> 0 | N26: 旅費 | O26: =SUM(P26:P29) -> 0 | R26: =SUM(S26:S29) -> 0
C28: ※「他」の内訳の | N28: ※「他」の内訳の
C29: 記載は任意 | F29: 他 | I29: 他 | L29: 他 | N29: 記載は任意 | Q29: 他 | T29: 他
B30: ④その他 | D30: =SUM(D31:D49) -> 0 | G30: =SUM(G31:G49) -> 0 | J30: =SUM(J31:J49) -> 0 | M30: ④その他 | O30: =SUM(O31:O49) -> 0 | R30: =SUM(R31:R49) -> 0
C31: 外注費（*） | D31: =SUM(E31:E34) -> 0 | G31: =SUM(H31:H34) -> 0 | J31: =SUM(K31:K34) -> 0 | N31: 外注費（*） | O31: =SUM(P31:P34) -> 0 | R31: =SUM(S31:S34) -> 0
C33: ※「他」の内訳の | N33: ※「他」の内訳の
C34: 記載は任意 | F34: 他 | I34: 他 | L34: 他 | N34: 記載は任意 | Q34: 他 | T34: 他
C35: 印刷製本費 | D35: =SUM(E35:E37) -> 0 | G35: =SUM(H35:H37) -> 0 | J35: =SUM(K35:K37) -> 0 | N35: 印刷製本費 | O35: =SUM(P35:P37) -> 0 | R35: =SUM(S35:S37) -> 0
C36: ※「他」の内訳の | N36: ※「他」の内訳の
C37: 記載は任意 | F37: 他 | I37: 他 | L37: 他 | N37: 記載は任意 | Q37: 他 | T37: 他
C38: 会議費 | D38: =SUM(E38:E40) -> 0 | G38: =SUM(H38:H40) -> 0 | J38: =SUM(K38:K40) -> 0 | N38: 会議費 | O38: =SUM(P38:P40) -> 0 | R38: =SUM(S38:S40) -> 0
C39: ※「他」の内訳の | N39: ※「他」の内訳の
C40: 記載は任意 | F40: 他 | I40: 他 | L40: 他 | N40: 記載は任意 | Q40: 他 | T40: 他
C41: 通信運搬費 | D41: =SUM(E41:E43) -> 0 | G41: =SUM(H41:H43) -> 0 | J41: =SUM(K41:K43) -> 0 | N41: 通信運搬費 | O41: =SUM(P41:P43) -> 0 | R41: =SUM(S41:S43) -> 0
C42: ※「他」の内訳の | N42: ※「他」の内訳の
C43: 記載は任意 | F43: 他 | I43: 他 | L43: 他 | N43: 記載は任意 | Q43: 他 | T43: 他
C44: 光熱水料 | D44: =SUM(E44:E45) -> 0 | G44: =SUM(H44:H45) -> 0 | J44: =SUM(K44:K45) -> 0 | N44: 光熱水料 | O44: =SUM(P44:P45) -> 0 | R44: =SUM(S44:S45) -> 0
F45: 他 | I45: 他 | L45: 他 | Q45: 他 | T45: 他
C46: その他（諸経費） | D46: =SUM(E46:E48) -> 0 | G46: =SUM(H46:H48) -> 0 | J46: =SUM(K46:K48) -> 0 | N46: その他（諸経費） | O46: =SUM(P46:P48) -> 0 | R46: =SUM(S46:S48) -> 0
C49: 消費税相当額 | D49: =E49 -> 0 | G49: =H49 -> 0 | J49: =K49 -> 0 | N49: 消費税相当額 | O49: =P49 -> 0 | R49: =S49 -> 0
B50: （1）直接経費計 （①～④合計） | D50: =D7+D16+D25+D30 -> 0 | G50: =G7+G16+G25+G30 -> 0 | J50: =J7+J16+J25+J30 -> 0 | M50: （1）直接経費計 （①～④合計） | O50: =O7+O16+O25+O30 -> 0 | R50: =R7+R16+R25+R30 -> 0
B51: （2）間接経費 | D51: =ROUNDDOWN(D50*30/100,0) -> 0 | E51: =IFERROR(IF(D51/D50>0.3,"間接経費が30％を超過しています",""),"") | G51: =ROUNDDOWN(G50*30/100,0) -> 0 | H51: =IFERROR(IF(G51/G50>0.3,"間接経費が30％を超過しています",""),"") | J51: =ROUNDDOWN(J50*30/100,0) -> 0 | K51: =IFERROR(IF(J51/J50>0.3,"間接経費が30％を超過しています",""),"") | M51: （2）間接経費 | O51: =ROUNDDOWN(O50*30/100,0) -> 0 | P51: =IFERROR(IF(O51/O50>0.3,"間接経費が30％を超過しています",""),"") | R51: =ROUNDDOWN(R50*30/100,0) -> 0 | S51: =IFERROR(IF(R51/R50>0.3,"間接経費が30％を超過しています",""),"")
B52: （原則、直接経費の30％） | F52: =IFERROR("間接経費率："&TEXT(D51/D50*100,"0")&"%","") | I52: =IFERROR("間接経費率："&TEXT(G51/G50*100,"0")&"%","") | L52: =IFERROR("間接経費率："&TEXT(J51/J50*100,"0")&"%","") | M52: （原則、直接経費の30％） | Q52: =IFERROR("間接経費率："&TEXT(O51/O50*100,"0")&"%","") | T52: =IFERROR("間接経費率："&TEXT(R51/R50*100,"0")&"%","") | V52: =COUNTIF(F52,"<>間接経費率：30%")+COUNTIF(I52,"<>間接経費率：30%")+COUNTIF(L52,"<>間接経費率：30%")-COUNTBLANK(F52)-COUNTBLANK(I52)-COUNTBLANK(L52) -> 0 | W52: =COUNTIF(Q52,"<>間接経費率：30%")+COUNTIF(T52,"<>間接経費率：30%")-COUNTBLANK(Q52)-COUNTBLANK(T52) -> 0
B53: サブテーマ合計 （直接経費＋間接経費） | D53: =D50+D51 -> 0 | G53: =G50+G51 -> 0 | J53: =J50+J51 -> 0 | M53: サブテーマ合計 （直接経費＋間接経費） | O53: =O50+O51 -> 0 | R53: =R50+R51 -> 0
B54: （*）外注費：研究代表機関又は研究分担機関が行うべき本質的な業務は不可。なお、原則、各サブテーマにおける研究機関ごとに、直接経費の１/２までとする。 | M54: （*）外注費：研究代表機関又は研究分担機関が行うべき本質的な業務は不可。なお、原則、各サブテーマにおける研究機関ごとに、直接経費の１/２までとする。
B55: （**）間接経費率が30%ではない場合の説明 （記入例） ●●大学：○%、●●機構：○%）： | M55: （**）間接経費率が30%ではない場合の説明 （記入例） ●●大学：○%、●●機構：○%）：
V56: =LENB(B56) -> 0 | W56: =LENB(M56) -> 0

Sheet 【SⅡ-14】経費サマリ
A1: 【SⅡ-14】経費サマリ
B2: 入力不要です。【SⅡ-14】経費内訳シートを自動で転記します。
B3: （1）課題全体の各年度別経費
G5: （単位：千円）
B6: 合計 （直接経費＋間接経費） | D6: =課題情報!D5 -> 46478 | E6: =D6+365 -> 46843 | F6: =E6+365 -> 47208 | G6: 総計
D7: =D23 -> 0 | E7: =E23 -> 0 | F7: =F23 -> 0 | G7: =D7+E7+F7 -> 0 | I7: =VLOOKUP(課題情報!D4,MST!B:D,3,0) -> 0
D9: =IFERROR(IF(D7>$I$7,"上限額を超過しています",""),"") | E9: =IFERROR(IF(E7>$I$7,"上限額を超過しています",""),"") | F9: =IFERROR(IF(F7>$I$7,"上限額を超過しています",""),"") | G9: =IF(COUNTIF(D9:F9,"上限額を超過しています")>0,"上限額を超過している年度があります","")
B10: （2）各年度別経費
G12: （単位：千円）
B13: 経費区分 | D13: =$D$6 -> 46478 | E13: =$E$6 -> 46843 | F13: =$F$6 -> 47208 | G13: 計
B14: ①物品費 | C14: 設備備品費 | D14: ='【SⅡ-14】経費内訳'!D8 -> 0 | E14: ='【SⅡ-14】経費内訳'!G8 -> 0 | F14: ='【SⅡ-14】経費内訳'!J8 -> 0 | G14: =D14+E14+F14 -> 0
C15: 消耗品費 | D15: ='【SⅡ-14】経費内訳'!D12 -> 0 | E15: ='【SⅡ-14】経費内訳'!G12 -> 0 | F15: ='【SⅡ-14】経費内訳'!J12 -> 0 | G15: =D15+E15+F15 -> 0
B16: ②人件費・謝金 | D16: ='【SⅡ-14】経費内訳'!D16 -> 0 | E16: ='【SⅡ-14】経費内訳'!G16 -> 0 | F16: ='【SⅡ-14】経費内訳'!J16 -> 0 | G16: =D16+E16+F16 -> 0
B17: ③旅費 | D17: ='【SⅡ-14】経費内訳'!D25 -> 0 | E17: ='【SⅡ-14】経費内訳'!G25 -> 0 | F17: ='【SⅡ-14】経費内訳'!J25 -> 0 | G17: =D17+E17+F17 -> 0
B18: ④その他 | C18: 外注費 | D18: ='【SⅡ-14】経費内訳'!D31 -> 0 | E18: ='【SⅡ-14】経費内訳'!G31 -> 0 | F18: ='【SⅡ-14】経費内訳'!J31 -> 0 | G18: =D18+E18+F18 -> 0
C19: その他 | D19: ='【SⅡ-14】経費内訳'!D30-'【SⅡ-14】経費内訳'!D31 -> 0 | E19: ='【SⅡ-14】経費内訳'!G30-'【SⅡ-14】経費内訳'!G31 -> 0 | F19: ='【SⅡ-14】経費内訳'!J30-'【SⅡ-14】経費内訳'!J31 -> 0 | G19: =D19+E19+F19 -> 0
B20: （1）直接経費計 （①～④合計） | D20: ='【SⅡ-14】経費内訳'!D50 -> 0 | E20: ='【SⅡ-14】経費内訳'!G50 -> 0 | F20: ='【SⅡ-14】経費内訳'!J50 -> 0 | G20: =D20+E20+F20 -> 0
B21: （2）間接経費 | D21: ='【SⅡ-14】経費内訳'!D51 -> 0 | E21: ='【SⅡ-14】経費内訳'!G51 -> 0 | F21: ='【SⅡ-14】経費内訳'!J51 -> 0 | G21: =D21+E21+F21 -> 0
B22: （原則、直接経費の30％）
B23: サブテーマ合計 （直接経費＋間接経費） | D23: ='【SⅡ-14】経費内訳'!D53 -> 0 | E23: ='【SⅡ-14】経費内訳'!G53 -> 0 | F23: ='【SⅡ-14】経費内訳'!J53 -> 0 | G23: =D23+E23+F23 -> 0

Sheet 【SⅡ-14】経費内訳
A1: 【SⅡ-14】経費内訳
B2: 黄色いセルは必須入力/選択項目です（0円の場合は、「0」と入力してください。）。セルの高さは自動で調整されます。
J4: （単位：千円）
D5: ='【SⅡ-14】経費サマリ'!$D$6 -> 46478 | G5: ='【SⅡ-14】経費サマリ'!$E$6 -> 46843 | J5: ='【SⅡ-14】経費サマリ'!$F$6 -> 47208
B6: 経費区分 | D6: 小計 | E6: 金額 | F6: 主な積算内訳 | G6: 小計 | H6: 金額 | I6: 主な積算内訳 | J6: 小計 | K6: 金額 | L6: 主な積算内訳
B7: ①物品費 | D7: =SUM(D8:D15) -> 0 | G7: =SUM(G8:G15) -> 0 | J7: =SUM(J8:J15) -> 0
C8: 設備備品費 | D8: =SUM(E8:E11) -> 0 | G8: =SUM(H8:H11) -> 0 | J8: =SUM(K8:K11) -> 0
C10: ※「他」の内訳の
C11: 記載は任意 | F11: 他 | I11: 他 | L11: 他
C12: 消耗品費 | D12: =SUM(E12:E15) -> 0 | G12: =SUM(H12:H15) -> 0 | J12: =SUM(K12:K15) -> 0
C14: ※「他」の内訳の
C15: 記載は任意 | F15: 他 | I15: 他 | L15: 他
B16: ②人件費・謝金 | D16: =SUM(D17:D24) -> 0 | G16: =SUM(G17:G24) -> 0 | J16: =SUM(J17:J24) -> 0
C17: 人件費 | D17: =SUM(E17:E20) -> 0 | G17: =SUM(H17:H20) -> 0 | J17: =SUM(K17:K20) -> 0
C19: ※「他」の内訳の
C20: 記載は任意 | F20: 他 | I20: 他 | L20: 他
C21: 謝金 | D21: =SUM(E21:E24) -> 0 | G21: =SUM(H21:H24) -> 0 | J21: =SUM(K21:K24) -> 0
C23: ※「他」の内訳の
C24: 記載は任意 | F24: 他 | I24: 他 | L24: 他
B25: ③旅費 | D25: =D26 -> 0 | G25: =G26 -> 0 | J25: =J26 -> 0
C26: 旅費 | D26: =SUM(E26:E29) -> 0 | G26: =SUM(H26:H29) -> 0 | J26: =SUM(K26:K29) -> 0
C28: ※「他」の内訳の
C29: 記載は任意 | F29: 他 | I29: 他 | L29: 他
B30: ④その他 | D30: =SUM(D31:D49) -> 0 | G30: =SUM(G31:G49) -> 0 | J30: =SUM(J31:J49) -> 0
C31: 外注費（*） | D31: =SUM(E31:E34) -> 0 | G31: =SUM(H31:H34) -> 0 | J31: =SUM(K31:K34) -> 0
C33: ※「他」の内訳の
C34: 記載は任意 | F34: 他 | I34: 他 | L34: 他
C35: 印刷製本費 | D35: =SUM(E35:E37) -> 0 | G35: =SUM(H35:H37) -> 0 | J35: =SUM(K35:K37) -> 0
C36: ※「他」の内訳の
C37: 記載は任意 | F37: 他 | I37: 他 | L37: 他
C38: 会議費 | D38: =SUM(E38:E40) -> 0 | G38: =SUM(H38:H40) -> 0 | J38: =SUM(K38:K40) -> 0
C39: ※「他」の内訳の
C40: 記載は任意 | F40: 他 | I40: 他 | L40: 他
C41: 通信運搬費 | D41: =SUM(E41:E43) -> 0 | G41: =SUM(H41:H43) -> 0 | J41: =SUM(K41:K43) -> 0
C42: ※「他」の内訳の
C43: 記載は任意 | F43: 他 | I43: 他 | L43: 他
C44: 光熱水料 | D44: =SUM(E44:E45) -> 0 | G44: =SUM(H44:H45) -> 0 | J44: =SUM(K44:K45) -> 0
F45: 他 | I45: 他 | L45: 他
C46: その他（諸経費） | D46: =SUM(E46:E48) -> 0 | G46: =SUM(H46:H48) -> 0 | J46: =SUM(K46:K48) -> 0
C49: 消費税相当額 | D49: =E49 -> 0 | G49: =H49 -> 0 | J49: =K49 -> 0
B50: （1）直接経費計 （①～④合計） | D50: =D7+D16+D25+D30 -> 0 | G50: =G7+G16+G25+G30 -> 0 | J50: =J7+J16+J25+J30 -> 0
B51: （2）間接経費 | D51: =ROUNDDOWN(D50*30/100,0) -> 0 | E51: =IFERROR(IF(D51/D50>0.3,"間接経費が30％を超過しています",""),"") | G51: =ROUNDDOWN(G50*30/100,0) -> 0 | H51: =IFERROR(IF(G51/G50>0.3,"間接経費が30％を超過しています",""),"") | J51: =ROUNDDOWN(J50*30/100,0) -> 0 | K51: =IFERROR(IF(J51/J50>0.3,"間接経費が30％を超過しています",""),"")
B52: （原則、直接経費の30％） | F52: =IFERROR("間接経費率："&TEXT(D51/D50*100,"0")&"%","") | I52: =IFERROR("間接経費率："&TEXT(G51/G50*100,"0")&"%","") | L52: =IFERROR("間接経費率："&TEXT(J51/J50*100,"0")&"%","") | N52: =COUNTIF(F52,"<>間接経費率：30%")+COUNTIF(I52,"<>間接経費率：30%")+COUNTIF(L52,"<>間接経費率：30%")-COUNTBLANK(F52)-COUNTBLANK(I52)-COUNTBLANK(L52) -> 0
B53: サブテーマ合計 （直接経費＋間接経費） | D53: =D50+D51 -> 0 | G53: =G50+G51 -> 0 | J53: =J50+J51 -> 0
B54: （*）外注費：研究代表機関又は研究分担機関が行うべき本質的な業務は不可。なお、原則、各サブテーマにおける研究機関ごとに、直接経費の１/２までとする。
B55: （**）間接経費率が30%ではない場合の説明 （記入例） ●●大学：○%、●●機構：○%）：
N56: =LENB(B56) -> 0
